BEGIN:VCALENDAR
VERSION:2.0
PRODID:-//The Kahala Luxury Hotel &amp; Resort - ECPv6.14.2//NONSGML v1.0//EN
CALSCALE:GREGORIAN
METHOD:PUBLISH
X-WR-CALNAME:The Kahala Luxury Hotel &amp; Resort
X-ORIGINAL-URL:https://jp.kahalaresort.com
X-WR-CALDESC:Events for The Kahala Luxury Hotel &amp; Resort
REFRESH-INTERVAL;VALUE=DURATION:PT1H
X-Robots-Tag:noindex
X-PUBLISHED-TTL:PT1H
BEGIN:VTIMEZONE
TZID:Pacific/Honolulu
BEGIN:STANDARD
TZOFFSETFROM:-1000
TZOFFSETTO:-1000
TZNAME:HST
DTSTART:20250101T000000
END:STANDARD
END:VTIMEZONE
BEGIN:VEVENT
DTSTART;VALUE=DATE:20250519
DTEND;VALUE=DATE:20250520
DTSTAMP:20260423T172014
CREATED:20230111T173130Z
LAST-MODIFIED:20250811T222836Z
UID:10013179-1747612800-1747699199@jp.kahalaresort.com
SUMMARY:Ohe Kapala Stamping by Na Mala Kahiko
DESCRIPTION:
URL:https://jp.kahalaresort.com/event/ohe-kapala-stamping-by-na-mala-kahiko/2025-05-19/
LOCATION:at THE VERANDA
CATEGORIES:ALL EVENTS,HEALTH & WELLBEING,KISCA,SPECIAL EVENTS
ATTACH;FMTTYPE=image/png:https://jp.kahalaresort.com/wp-content/uploads/1639080397-image014_desktop-2.png
END:VEVENT
BEGIN:VEVENT
DTSTART;VALUE=DATE:20250520
DTEND;VALUE=DATE:20250521
DTSTAMP:20260423T172014
CREATED:20230116T055908Z
LAST-MODIFIED:20260303T192217Z
UID:10026180-1747699200-1747785599@jp.kahalaresort.com
SUMMARY:Ocean Education Activity
DESCRIPTION:
URL:https://jp.kahalaresort.com/event/live-touch-tank-coral-activity/2025-05-20/
LOCATION:at POOLSIDE HALE
CATEGORIES:ALL EVENTS,HEALTH & WELLBEING,KISCA,SPECIAL EVENTS
ATTACH;FMTTYPE=image/jpeg:https://jp.kahalaresort.com/wp-content/uploads/1632756412-shutterstock_410084188_thumbnail.jpg
END:VEVENT
BEGIN:VEVENT
DTSTART;VALUE=DATE:20250520
DTEND;VALUE=DATE:20250521
DTSTAMP:20260423T172014
CREATED:20230525T201516Z
LAST-MODIFIED:20250811T222603Z
UID:10013440-1747699200-1747785599@jp.kahalaresort.com
SUMMARY:Lauhala Weaving
DESCRIPTION:
URL:https://jp.kahalaresort.com/event/lauhala-weaving-2/2025-05-20/
LOCATION:at THE VERANDA
CATEGORIES:ALL EVENTS,HEALTH & WELLBEING,KISCA,SPECIAL EVENTS
ATTACH;FMTTYPE=image/jpeg:https://jp.kahalaresort.com/wp-content/uploads/1639071856-Weaving_desktop-1.jpg
END:VEVENT
BEGIN:VEVENT
DTSTART;VALUE=DATE:20250521
DTEND;VALUE=DATE:20250522
DTSTAMP:20260423T172014
CREATED:20230111T175739Z
LAST-MODIFIED:20251124T184302Z
UID:10014487-1747785600-1747871999@jp.kahalaresort.com
SUMMARY:Keiki Art
DESCRIPTION:
URL:https://jp.kahalaresort.com/event/keiki-art/2025-05-21/
CATEGORIES:ALL EVENTS,HEALTH & WELLBEING,KISCA,SPECIAL EVENTS
ATTACH;FMTTYPE=image/jpeg:https://jp.kahalaresort.com/wp-content/uploads/1632757965-shutterstock_574858306_desktop.jpg
END:VEVENT
BEGIN:VEVENT
DTSTART;VALUE=DATE:20250521
DTEND;VALUE=DATE:20250522
DTSTAMP:20260423T172014
CREATED:20230115T220000Z
LAST-MODIFIED:20250811T223158Z
UID:10022093-1747785600-1747871999@jp.kahalaresort.com
SUMMARY:Lei Making
DESCRIPTION:
URL:https://jp.kahalaresort.com/event/lei-making-2/2025-05-21/
LOCATION:at THE VERANDA
CATEGORIES:ALL EVENTS,HEALTH & WELLBEING,KISCA,SPECIAL EVENTS
ATTACH;FMTTYPE=image/jpeg:https://jp.kahalaresort.com/wp-content/uploads/1639069510-Lei_Making_desktop-1.jpeg
END:VEVENT
BEGIN:VEVENT
DTSTART;VALUE=DATE:20250521
DTEND;VALUE=DATE:20250522
DTSTAMP:20260423T172014
CREATED:20230116T055908Z
LAST-MODIFIED:20260303T192217Z
UID:10018911-1747785600-1747871999@jp.kahalaresort.com
SUMMARY:Ocean Education Activity
DESCRIPTION:
URL:https://jp.kahalaresort.com/event/live-touch-tank-coral-activity/2025-05-21/
LOCATION:at POOLSIDE HALE
CATEGORIES:ALL EVENTS,HEALTH & WELLBEING,KISCA,SPECIAL EVENTS
ATTACH;FMTTYPE=image/jpeg:https://jp.kahalaresort.com/wp-content/uploads/1632756412-shutterstock_410084188_thumbnail.jpg
END:VEVENT
BEGIN:VEVENT
DTSTART;VALUE=DATE:20250522
DTEND;VALUE=DATE:20250523
DTSTAMP:20260423T172014
CREATED:20230111T180331Z
LAST-MODIFIED:20250811T222945Z
UID:10014225-1747872000-1747958399@jp.kahalaresort.com
SUMMARY:Haku Kupe’e Bracelet Making
DESCRIPTION:
URL:https://jp.kahalaresort.com/event/haku-kupee-bracelet-making/2025-05-22/
LOCATION:at THE VERANDA
CATEGORIES:ALL EVENTS,HEALTH & WELLBEING,KISCA,SPECIAL EVENTS
ATTACH;FMTTYPE=image/jpeg:https://jp.kahalaresort.com/wp-content/uploads/1657547631-Haku-Kupe-480x480_desktop-1.jpg
END:VEVENT
BEGIN:VEVENT
DTSTART;VALUE=DATE:20250523
DTEND;VALUE=DATE:20250524
DTSTAMP:20260423T172014
CREATED:20230110T001207Z
LAST-MODIFIED:20251109T173825Z
UID:10003266-1747958400-1748044799@jp.kahalaresort.com
SUMMARY:Storytelling by our Tutu
DESCRIPTION:
URL:https://jp.kahalaresort.com/event/storytelling-by-our-tutu/2025-05-23/
LOCATION:at THE VERANDA
CATEGORIES:ALL EVENTS,KISCA,SPECIAL EVENTS
ATTACH;FMTTYPE=image/jpeg:https://jp.kahalaresort.com/wp-content/uploads/1658181596-tutu_desktop-1.jpg
END:VEVENT
BEGIN:VEVENT
DTSTART;VALUE=DATE:20250523
DTEND;VALUE=DATE:20250524
DTSTAMP:20260423T172014
CREATED:20230115T220000Z
LAST-MODIFIED:20250811T223158Z
UID:10022094-1747958400-1748044799@jp.kahalaresort.com
SUMMARY:Lei Making
DESCRIPTION:
URL:https://jp.kahalaresort.com/event/lei-making-2/2025-05-23/
LOCATION:at THE VERANDA
CATEGORIES:ALL EVENTS,HEALTH & WELLBEING,KISCA,SPECIAL EVENTS
ATTACH;FMTTYPE=image/jpeg:https://jp.kahalaresort.com/wp-content/uploads/1639069510-Lei_Making_desktop-1.jpeg
END:VEVENT
BEGIN:VEVENT
DTSTART;VALUE=DATE:20250523
DTEND;VALUE=DATE:20250524
DTSTAMP:20260423T172014
CREATED:20230116T055908Z
LAST-MODIFIED:20260303T192217Z
UID:10018912-1747958400-1748044799@jp.kahalaresort.com
SUMMARY:Ocean Education Activity
DESCRIPTION:
URL:https://jp.kahalaresort.com/event/live-touch-tank-coral-activity/2025-05-23/
LOCATION:at POOLSIDE HALE
CATEGORIES:ALL EVENTS,HEALTH & WELLBEING,KISCA,SPECIAL EVENTS
ATTACH;FMTTYPE=image/jpeg:https://jp.kahalaresort.com/wp-content/uploads/1632756412-shutterstock_410084188_thumbnail.jpg
END:VEVENT
BEGIN:VEVENT
DTSTART;VALUE=DATE:20250525
DTEND;VALUE=DATE:20250526
DTSTAMP:20260423T172014
CREATED:20230115T220000Z
LAST-MODIFIED:20250811T223158Z
UID:10022095-1748131200-1748217599@jp.kahalaresort.com
SUMMARY:Lei Making
DESCRIPTION:
URL:https://jp.kahalaresort.com/event/lei-making-2/2025-05-25/
LOCATION:at THE VERANDA
CATEGORIES:ALL EVENTS,HEALTH & WELLBEING,KISCA,SPECIAL EVENTS
ATTACH;FMTTYPE=image/jpeg:https://jp.kahalaresort.com/wp-content/uploads/1639069510-Lei_Making_desktop-1.jpeg
END:VEVENT
BEGIN:VEVENT
DTSTART;VALUE=DATE:20250526
DTEND;VALUE=DATE:20250527
DTSTAMP:20260423T172014
CREATED:20230111T173130Z
LAST-MODIFIED:20250811T222836Z
UID:10013180-1748217600-1748303999@jp.kahalaresort.com
SUMMARY:Ohe Kapala Stamping by Na Mala Kahiko
DESCRIPTION:
URL:https://jp.kahalaresort.com/event/ohe-kapala-stamping-by-na-mala-kahiko/2025-05-26/
LOCATION:at THE VERANDA
CATEGORIES:ALL EVENTS,HEALTH & WELLBEING,KISCA,SPECIAL EVENTS
ATTACH;FMTTYPE=image/png:https://jp.kahalaresort.com/wp-content/uploads/1639080397-image014_desktop-2.png
END:VEVENT
BEGIN:VEVENT
DTSTART;VALUE=DATE:20250527
DTEND;VALUE=DATE:20250528
DTSTAMP:20260423T172014
CREATED:20230116T055908Z
LAST-MODIFIED:20260303T192217Z
UID:10026181-1748304000-1748390399@jp.kahalaresort.com
SUMMARY:Ocean Education Activity
DESCRIPTION:
URL:https://jp.kahalaresort.com/event/live-touch-tank-coral-activity/2025-05-27/
LOCATION:at POOLSIDE HALE
CATEGORIES:ALL EVENTS,HEALTH & WELLBEING,KISCA,SPECIAL EVENTS
ATTACH;FMTTYPE=image/jpeg:https://jp.kahalaresort.com/wp-content/uploads/1632756412-shutterstock_410084188_thumbnail.jpg
END:VEVENT
BEGIN:VEVENT
DTSTART;VALUE=DATE:20250527
DTEND;VALUE=DATE:20250528
DTSTAMP:20260423T172014
CREATED:20230525T201516Z
LAST-MODIFIED:20250811T222603Z
UID:10013441-1748304000-1748390399@jp.kahalaresort.com
SUMMARY:Lauhala Weaving
DESCRIPTION:
URL:https://jp.kahalaresort.com/event/lauhala-weaving-2/2025-05-27/
LOCATION:at THE VERANDA
CATEGORIES:ALL EVENTS,HEALTH & WELLBEING,KISCA,SPECIAL EVENTS
ATTACH;FMTTYPE=image/jpeg:https://jp.kahalaresort.com/wp-content/uploads/1639071856-Weaving_desktop-1.jpg
END:VEVENT
BEGIN:VEVENT
DTSTART;VALUE=DATE:20250528
DTEND;VALUE=DATE:20250529
DTSTAMP:20260423T172014
CREATED:20230111T175739Z
LAST-MODIFIED:20251124T184302Z
UID:10014488-1748390400-1748476799@jp.kahalaresort.com
SUMMARY:Keiki Art
DESCRIPTION:
URL:https://jp.kahalaresort.com/event/keiki-art/2025-05-28/
CATEGORIES:ALL EVENTS,HEALTH & WELLBEING,KISCA,SPECIAL EVENTS
ATTACH;FMTTYPE=image/jpeg:https://jp.kahalaresort.com/wp-content/uploads/1632757965-shutterstock_574858306_desktop.jpg
END:VEVENT
BEGIN:VEVENT
DTSTART;VALUE=DATE:20250528
DTEND;VALUE=DATE:20250529
DTSTAMP:20260423T172014
CREATED:20230115T220000Z
LAST-MODIFIED:20250811T223158Z
UID:10022096-1748390400-1748476799@jp.kahalaresort.com
SUMMARY:Lei Making
DESCRIPTION:
URL:https://jp.kahalaresort.com/event/lei-making-2/2025-05-28/
LOCATION:at THE VERANDA
CATEGORIES:ALL EVENTS,HEALTH & WELLBEING,KISCA,SPECIAL EVENTS
ATTACH;FMTTYPE=image/jpeg:https://jp.kahalaresort.com/wp-content/uploads/1639069510-Lei_Making_desktop-1.jpeg
END:VEVENT
BEGIN:VEVENT
DTSTART;VALUE=DATE:20250528
DTEND;VALUE=DATE:20250529
DTSTAMP:20260423T172014
CREATED:20230116T055908Z
LAST-MODIFIED:20260303T192217Z
UID:10018913-1748390400-1748476799@jp.kahalaresort.com
SUMMARY:Ocean Education Activity
DESCRIPTION:
URL:https://jp.kahalaresort.com/event/live-touch-tank-coral-activity/2025-05-28/
LOCATION:at POOLSIDE HALE
CATEGORIES:ALL EVENTS,HEALTH & WELLBEING,KISCA,SPECIAL EVENTS
ATTACH;FMTTYPE=image/jpeg:https://jp.kahalaresort.com/wp-content/uploads/1632756412-shutterstock_410084188_thumbnail.jpg
END:VEVENT
BEGIN:VEVENT
DTSTART;VALUE=DATE:20250529
DTEND;VALUE=DATE:20250530
DTSTAMP:20260423T172014
CREATED:20230111T180331Z
LAST-MODIFIED:20250811T222945Z
UID:10014226-1748476800-1748563199@jp.kahalaresort.com
SUMMARY:Haku Kupe’e Bracelet Making
DESCRIPTION:
URL:https://jp.kahalaresort.com/event/haku-kupee-bracelet-making/2025-05-29/
LOCATION:at THE VERANDA
CATEGORIES:ALL EVENTS,HEALTH & WELLBEING,KISCA,SPECIAL EVENTS
ATTACH;FMTTYPE=image/jpeg:https://jp.kahalaresort.com/wp-content/uploads/1657547631-Haku-Kupe-480x480_desktop-1.jpg
END:VEVENT
BEGIN:VEVENT
DTSTART;VALUE=DATE:20250530
DTEND;VALUE=DATE:20250531
DTSTAMP:20260423T172014
CREATED:20230110T001207Z
LAST-MODIFIED:20251109T173825Z
UID:10003267-1748563200-1748649599@jp.kahalaresort.com
SUMMARY:Storytelling by our Tutu
DESCRIPTION:
URL:https://jp.kahalaresort.com/event/storytelling-by-our-tutu/2025-05-30/
LOCATION:at THE VERANDA
CATEGORIES:ALL EVENTS,KISCA,SPECIAL EVENTS
ATTACH;FMTTYPE=image/jpeg:https://jp.kahalaresort.com/wp-content/uploads/1658181596-tutu_desktop-1.jpg
END:VEVENT
BEGIN:VEVENT
DTSTART;VALUE=DATE:20250530
DTEND;VALUE=DATE:20250531
DTSTAMP:20260423T172014
CREATED:20230115T220000Z
LAST-MODIFIED:20250811T223158Z
UID:10022097-1748563200-1748649599@jp.kahalaresort.com
SUMMARY:Lei Making
DESCRIPTION:
URL:https://jp.kahalaresort.com/event/lei-making-2/2025-05-30/
LOCATION:at THE VERANDA
CATEGORIES:ALL EVENTS,HEALTH & WELLBEING,KISCA,SPECIAL EVENTS
ATTACH;FMTTYPE=image/jpeg:https://jp.kahalaresort.com/wp-content/uploads/1639069510-Lei_Making_desktop-1.jpeg
END:VEVENT
BEGIN:VEVENT
DTSTART;VALUE=DATE:20250530
DTEND;VALUE=DATE:20250531
DTSTAMP:20260423T172014
CREATED:20230116T055908Z
LAST-MODIFIED:20260303T192217Z
UID:10018914-1748563200-1748649599@jp.kahalaresort.com
SUMMARY:Ocean Education Activity
DESCRIPTION:
URL:https://jp.kahalaresort.com/event/live-touch-tank-coral-activity/2025-05-30/
LOCATION:at POOLSIDE HALE
CATEGORIES:ALL EVENTS,HEALTH & WELLBEING,KISCA,SPECIAL EVENTS
ATTACH;FMTTYPE=image/jpeg:https://jp.kahalaresort.com/wp-content/uploads/1632756412-shutterstock_410084188_thumbnail.jpg
END:VEVENT
BEGIN:VEVENT
DTSTART;VALUE=DATE:20250601
DTEND;VALUE=DATE:20250602
DTSTAMP:20260423T172014
CREATED:20230115T220000Z
LAST-MODIFIED:20250811T223158Z
UID:10022098-1748736000-1748822399@jp.kahalaresort.com
SUMMARY:Lei Making
DESCRIPTION:
URL:https://jp.kahalaresort.com/event/lei-making-2/2025-06-01/
LOCATION:at THE VERANDA
CATEGORIES:ALL EVENTS,HEALTH & WELLBEING,KISCA,SPECIAL EVENTS
ATTACH;FMTTYPE=image/jpeg:https://jp.kahalaresort.com/wp-content/uploads/1639069510-Lei_Making_desktop-1.jpeg
END:VEVENT
BEGIN:VEVENT
DTSTART;VALUE=DATE:20250602
DTEND;VALUE=DATE:20250603
DTSTAMP:20260423T172014
CREATED:20230111T173130Z
LAST-MODIFIED:20250811T222836Z
UID:10013181-1748822400-1748908799@jp.kahalaresort.com
SUMMARY:Ohe Kapala Stamping by Na Mala Kahiko
DESCRIPTION:
URL:https://jp.kahalaresort.com/event/ohe-kapala-stamping-by-na-mala-kahiko/2025-06-02/
LOCATION:at THE VERANDA
CATEGORIES:ALL EVENTS,HEALTH & WELLBEING,KISCA,SPECIAL EVENTS
ATTACH;FMTTYPE=image/png:https://jp.kahalaresort.com/wp-content/uploads/1639080397-image014_desktop-2.png
END:VEVENT
BEGIN:VEVENT
DTSTART;VALUE=DATE:20250603
DTEND;VALUE=DATE:20250604
DTSTAMP:20260423T172014
CREATED:20230116T055908Z
LAST-MODIFIED:20260303T192217Z
UID:10026182-1748908800-1748995199@jp.kahalaresort.com
SUMMARY:Ocean Education Activity
DESCRIPTION:
URL:https://jp.kahalaresort.com/event/live-touch-tank-coral-activity/2025-06-03/
LOCATION:at POOLSIDE HALE
CATEGORIES:ALL EVENTS,HEALTH & WELLBEING,KISCA,SPECIAL EVENTS
ATTACH;FMTTYPE=image/jpeg:https://jp.kahalaresort.com/wp-content/uploads/1632756412-shutterstock_410084188_thumbnail.jpg
END:VEVENT
BEGIN:VEVENT
DTSTART;VALUE=DATE:20250603
DTEND;VALUE=DATE:20250604
DTSTAMP:20260423T172014
CREATED:20230525T201516Z
LAST-MODIFIED:20250811T222603Z
UID:10013442-1748908800-1748995199@jp.kahalaresort.com
SUMMARY:Lauhala Weaving
DESCRIPTION:
URL:https://jp.kahalaresort.com/event/lauhala-weaving-2/2025-06-03/
LOCATION:at THE VERANDA
CATEGORIES:ALL EVENTS,HEALTH & WELLBEING,KISCA,SPECIAL EVENTS
ATTACH;FMTTYPE=image/jpeg:https://jp.kahalaresort.com/wp-content/uploads/1639071856-Weaving_desktop-1.jpg
END:VEVENT
BEGIN:VEVENT
DTSTART;VALUE=DATE:20250604
DTEND;VALUE=DATE:20250605
DTSTAMP:20260423T172014
CREATED:20230111T175739Z
LAST-MODIFIED:20251124T184302Z
UID:10014489-1748995200-1749081599@jp.kahalaresort.com
SUMMARY:Keiki Art
DESCRIPTION:
URL:https://jp.kahalaresort.com/event/keiki-art/2025-06-04/
CATEGORIES:ALL EVENTS,HEALTH & WELLBEING,KISCA,SPECIAL EVENTS
ATTACH;FMTTYPE=image/jpeg:https://jp.kahalaresort.com/wp-content/uploads/1632757965-shutterstock_574858306_desktop.jpg
END:VEVENT
BEGIN:VEVENT
DTSTART;VALUE=DATE:20250604
DTEND;VALUE=DATE:20250605
DTSTAMP:20260423T172014
CREATED:20230115T220000Z
LAST-MODIFIED:20250811T223158Z
UID:10022099-1748995200-1749081599@jp.kahalaresort.com
SUMMARY:Lei Making
DESCRIPTION:
URL:https://jp.kahalaresort.com/event/lei-making-2/2025-06-04/
LOCATION:at THE VERANDA
CATEGORIES:ALL EVENTS,HEALTH & WELLBEING,KISCA,SPECIAL EVENTS
ATTACH;FMTTYPE=image/jpeg:https://jp.kahalaresort.com/wp-content/uploads/1639069510-Lei_Making_desktop-1.jpeg
END:VEVENT
BEGIN:VEVENT
DTSTART;VALUE=DATE:20250604
DTEND;VALUE=DATE:20250605
DTSTAMP:20260423T172014
CREATED:20230116T055908Z
LAST-MODIFIED:20260303T192217Z
UID:10018915-1748995200-1749081599@jp.kahalaresort.com
SUMMARY:Ocean Education Activity
DESCRIPTION:
URL:https://jp.kahalaresort.com/event/live-touch-tank-coral-activity/2025-06-04/
LOCATION:at POOLSIDE HALE
CATEGORIES:ALL EVENTS,HEALTH & WELLBEING,KISCA,SPECIAL EVENTS
ATTACH;FMTTYPE=image/jpeg:https://jp.kahalaresort.com/wp-content/uploads/1632756412-shutterstock_410084188_thumbnail.jpg
END:VEVENT
BEGIN:VEVENT
DTSTART;VALUE=DATE:20250605
DTEND;VALUE=DATE:20250606
DTSTAMP:20260423T172014
CREATED:20230111T180331Z
LAST-MODIFIED:20250811T222945Z
UID:10014227-1749081600-1749167999@jp.kahalaresort.com
SUMMARY:Haku Kupe’e Bracelet Making
DESCRIPTION:
URL:https://jp.kahalaresort.com/event/haku-kupee-bracelet-making/2025-06-05/
LOCATION:at THE VERANDA
CATEGORIES:ALL EVENTS,HEALTH & WELLBEING,KISCA,SPECIAL EVENTS
ATTACH;FMTTYPE=image/jpeg:https://jp.kahalaresort.com/wp-content/uploads/1657547631-Haku-Kupe-480x480_desktop-1.jpg
END:VEVENT
BEGIN:VEVENT
DTSTART;VALUE=DATE:20250606
DTEND;VALUE=DATE:20250607
DTSTAMP:20260423T172014
CREATED:20230110T001207Z
LAST-MODIFIED:20251109T173825Z
UID:10003268-1749168000-1749254399@jp.kahalaresort.com
SUMMARY:Storytelling by our Tutu
DESCRIPTION:
URL:https://jp.kahalaresort.com/event/storytelling-by-our-tutu/2025-06-06/
LOCATION:at THE VERANDA
CATEGORIES:ALL EVENTS,KISCA,SPECIAL EVENTS
ATTACH;FMTTYPE=image/jpeg:https://jp.kahalaresort.com/wp-content/uploads/1658181596-tutu_desktop-1.jpg
END:VEVENT
END:VCALENDAR