BEGIN:VCALENDAR
VERSION:2.0
PRODID:-//The Kahala Luxury Hotel &amp; Resort - ECPv6.14.2//NONSGML v1.0//EN
CALSCALE:GREGORIAN
METHOD:PUBLISH
X-WR-CALNAME:The Kahala Luxury Hotel &amp; Resort
X-ORIGINAL-URL:https://jp.kahalaresort.com
X-WR-CALDESC:Events for The Kahala Luxury Hotel &amp; Resort
REFRESH-INTERVAL;VALUE=DURATION:PT1H
X-Robots-Tag:noindex
X-PUBLISHED-TTL:PT1H
BEGIN:VTIMEZONE
TZID:Pacific/Honolulu
BEGIN:STANDARD
TZOFFSETFROM:-1000
TZOFFSETTO:-1000
TZNAME:HST
DTSTART:20250101T000000
END:STANDARD
END:VTIMEZONE
BEGIN:VEVENT
DTSTART;VALUE=DATE:20250625
DTEND;VALUE=DATE:20250626
DTSTAMP:20260423T113701
CREATED:20230116T055908Z
LAST-MODIFIED:20260303T192217Z
UID:10018921-1750809600-1750895999@jp.kahalaresort.com
SUMMARY:Ocean Education Activity
DESCRIPTION:
URL:https://jp.kahalaresort.com/event/live-touch-tank-coral-activity/2025-06-25/
LOCATION:at POOLSIDE HALE
CATEGORIES:ALL EVENTS,HEALTH & WELLBEING,KISCA,SPECIAL EVENTS
ATTACH;FMTTYPE=image/jpeg:https://jp.kahalaresort.com/wp-content/uploads/1632756412-shutterstock_410084188_thumbnail.jpg
END:VEVENT
BEGIN:VEVENT
DTSTART;VALUE=DATE:20250626
DTEND;VALUE=DATE:20250627
DTSTAMP:20260423T113701
CREATED:20230111T180331Z
LAST-MODIFIED:20250811T222945Z
UID:10014230-1750896000-1750982399@jp.kahalaresort.com
SUMMARY:Haku Kupe’e Bracelet Making
DESCRIPTION:
URL:https://jp.kahalaresort.com/event/haku-kupee-bracelet-making/2025-06-26/
LOCATION:at THE VERANDA
CATEGORIES:ALL EVENTS,HEALTH & WELLBEING,KISCA,SPECIAL EVENTS
ATTACH;FMTTYPE=image/jpeg:https://jp.kahalaresort.com/wp-content/uploads/1657547631-Haku-Kupe-480x480_desktop-1.jpg
END:VEVENT
BEGIN:VEVENT
DTSTART;VALUE=DATE:20250627
DTEND;VALUE=DATE:20250628
DTSTAMP:20260423T113701
CREATED:20230110T001207Z
LAST-MODIFIED:20251109T173825Z
UID:10003271-1750982400-1751068799@jp.kahalaresort.com
SUMMARY:Storytelling by our Tutu
DESCRIPTION:
URL:https://jp.kahalaresort.com/event/storytelling-by-our-tutu/2025-06-27/
LOCATION:at THE VERANDA
CATEGORIES:ALL EVENTS,KISCA,SPECIAL EVENTS
ATTACH;FMTTYPE=image/jpeg:https://jp.kahalaresort.com/wp-content/uploads/1658181596-tutu_desktop-1.jpg
END:VEVENT
BEGIN:VEVENT
DTSTART;VALUE=DATE:20250627
DTEND;VALUE=DATE:20250628
DTSTAMP:20260423T113701
CREATED:20230115T220000Z
LAST-MODIFIED:20250811T223158Z
UID:10022109-1750982400-1751068799@jp.kahalaresort.com
SUMMARY:Lei Making
DESCRIPTION:
URL:https://jp.kahalaresort.com/event/lei-making-2/2025-06-27/
LOCATION:at THE VERANDA
CATEGORIES:ALL EVENTS,HEALTH & WELLBEING,KISCA,SPECIAL EVENTS
ATTACH;FMTTYPE=image/jpeg:https://jp.kahalaresort.com/wp-content/uploads/1639069510-Lei_Making_desktop-1.jpeg
END:VEVENT
BEGIN:VEVENT
DTSTART;VALUE=DATE:20250627
DTEND;VALUE=DATE:20250628
DTSTAMP:20260423T113701
CREATED:20230116T055908Z
LAST-MODIFIED:20260303T192217Z
UID:10018922-1750982400-1751068799@jp.kahalaresort.com
SUMMARY:Ocean Education Activity
DESCRIPTION:
URL:https://jp.kahalaresort.com/event/live-touch-tank-coral-activity/2025-06-27/
LOCATION:at POOLSIDE HALE
CATEGORIES:ALL EVENTS,HEALTH & WELLBEING,KISCA,SPECIAL EVENTS
ATTACH;FMTTYPE=image/jpeg:https://jp.kahalaresort.com/wp-content/uploads/1632756412-shutterstock_410084188_thumbnail.jpg
END:VEVENT
BEGIN:VEVENT
DTSTART;VALUE=DATE:20250629
DTEND;VALUE=DATE:20250630
DTSTAMP:20260423T113701
CREATED:20230115T220000Z
LAST-MODIFIED:20250811T223158Z
UID:10022110-1751155200-1751241599@jp.kahalaresort.com
SUMMARY:Lei Making
DESCRIPTION:
URL:https://jp.kahalaresort.com/event/lei-making-2/2025-06-29/
LOCATION:at THE VERANDA
CATEGORIES:ALL EVENTS,HEALTH & WELLBEING,KISCA,SPECIAL EVENTS
ATTACH;FMTTYPE=image/jpeg:https://jp.kahalaresort.com/wp-content/uploads/1639069510-Lei_Making_desktop-1.jpeg
END:VEVENT
BEGIN:VEVENT
DTSTART;VALUE=DATE:20250630
DTEND;VALUE=DATE:20250701
DTSTAMP:20260423T113701
CREATED:20230111T173130Z
LAST-MODIFIED:20250811T222836Z
UID:10013185-1751241600-1751327999@jp.kahalaresort.com
SUMMARY:Ohe Kapala Stamping by Na Mala Kahiko
DESCRIPTION:
URL:https://jp.kahalaresort.com/event/ohe-kapala-stamping-by-na-mala-kahiko/2025-06-30/
LOCATION:at THE VERANDA
CATEGORIES:ALL EVENTS,HEALTH & WELLBEING,KISCA,SPECIAL EVENTS
ATTACH;FMTTYPE=image/png:https://jp.kahalaresort.com/wp-content/uploads/1639080397-image014_desktop-2.png
END:VEVENT
BEGIN:VEVENT
DTSTART;VALUE=DATE:20250701
DTEND;VALUE=DATE:20250702
DTSTAMP:20260423T113701
CREATED:20230116T055908Z
LAST-MODIFIED:20260303T192217Z
UID:10026186-1751328000-1751414399@jp.kahalaresort.com
SUMMARY:Ocean Education Activity
DESCRIPTION:
URL:https://jp.kahalaresort.com/event/live-touch-tank-coral-activity/2025-07-01/
LOCATION:at POOLSIDE HALE
CATEGORIES:ALL EVENTS,HEALTH & WELLBEING,KISCA,SPECIAL EVENTS
ATTACH;FMTTYPE=image/jpeg:https://jp.kahalaresort.com/wp-content/uploads/1632756412-shutterstock_410084188_thumbnail.jpg
END:VEVENT
BEGIN:VEVENT
DTSTART;VALUE=DATE:20250701
DTEND;VALUE=DATE:20250702
DTSTAMP:20260423T113701
CREATED:20230525T201516Z
LAST-MODIFIED:20250811T222603Z
UID:10013446-1751328000-1751414399@jp.kahalaresort.com
SUMMARY:Lauhala Weaving
DESCRIPTION:
URL:https://jp.kahalaresort.com/event/lauhala-weaving-2/2025-07-01/
LOCATION:at THE VERANDA
CATEGORIES:ALL EVENTS,HEALTH & WELLBEING,KISCA,SPECIAL EVENTS
ATTACH;FMTTYPE=image/jpeg:https://jp.kahalaresort.com/wp-content/uploads/1639071856-Weaving_desktop-1.jpg
END:VEVENT
BEGIN:VEVENT
DTSTART;VALUE=DATE:20250702
DTEND;VALUE=DATE:20250703
DTSTAMP:20260423T113701
CREATED:20230111T175739Z
LAST-MODIFIED:20251124T184302Z
UID:10014493-1751414400-1751500799@jp.kahalaresort.com
SUMMARY:Keiki Art
DESCRIPTION:
URL:https://jp.kahalaresort.com/event/keiki-art/2025-07-02/
CATEGORIES:ALL EVENTS,HEALTH & WELLBEING,KISCA,SPECIAL EVENTS
ATTACH;FMTTYPE=image/jpeg:https://jp.kahalaresort.com/wp-content/uploads/1632757965-shutterstock_574858306_desktop.jpg
END:VEVENT
BEGIN:VEVENT
DTSTART;VALUE=DATE:20250702
DTEND;VALUE=DATE:20250703
DTSTAMP:20260423T113701
CREATED:20230115T220000Z
LAST-MODIFIED:20250811T223158Z
UID:10022111-1751414400-1751500799@jp.kahalaresort.com
SUMMARY:Lei Making
DESCRIPTION:
URL:https://jp.kahalaresort.com/event/lei-making-2/2025-07-02/
LOCATION:at THE VERANDA
CATEGORIES:ALL EVENTS,HEALTH & WELLBEING,KISCA,SPECIAL EVENTS
ATTACH;FMTTYPE=image/jpeg:https://jp.kahalaresort.com/wp-content/uploads/1639069510-Lei_Making_desktop-1.jpeg
END:VEVENT
BEGIN:VEVENT
DTSTART;VALUE=DATE:20250702
DTEND;VALUE=DATE:20250703
DTSTAMP:20260423T113701
CREATED:20230116T055908Z
LAST-MODIFIED:20260303T192217Z
UID:10018923-1751414400-1751500799@jp.kahalaresort.com
SUMMARY:Ocean Education Activity
DESCRIPTION:
URL:https://jp.kahalaresort.com/event/live-touch-tank-coral-activity/2025-07-02/
LOCATION:at POOLSIDE HALE
CATEGORIES:ALL EVENTS,HEALTH & WELLBEING,KISCA,SPECIAL EVENTS
ATTACH;FMTTYPE=image/jpeg:https://jp.kahalaresort.com/wp-content/uploads/1632756412-shutterstock_410084188_thumbnail.jpg
END:VEVENT
BEGIN:VEVENT
DTSTART;VALUE=DATE:20250703
DTEND;VALUE=DATE:20250704
DTSTAMP:20260423T113701
CREATED:20230111T180331Z
LAST-MODIFIED:20250811T222945Z
UID:10014231-1751500800-1751587199@jp.kahalaresort.com
SUMMARY:Haku Kupe’e Bracelet Making
DESCRIPTION:
URL:https://jp.kahalaresort.com/event/haku-kupee-bracelet-making/2025-07-03/
LOCATION:at THE VERANDA
CATEGORIES:ALL EVENTS,HEALTH & WELLBEING,KISCA,SPECIAL EVENTS
ATTACH;FMTTYPE=image/jpeg:https://jp.kahalaresort.com/wp-content/uploads/1657547631-Haku-Kupe-480x480_desktop-1.jpg
END:VEVENT
BEGIN:VEVENT
DTSTART;VALUE=DATE:20250704
DTEND;VALUE=DATE:20250705
DTSTAMP:20260423T113701
CREATED:20230110T001207Z
LAST-MODIFIED:20251109T173825Z
UID:10003272-1751587200-1751673599@jp.kahalaresort.com
SUMMARY:Storytelling by our Tutu
DESCRIPTION:
URL:https://jp.kahalaresort.com/event/storytelling-by-our-tutu/2025-07-04/
LOCATION:at THE VERANDA
CATEGORIES:ALL EVENTS,KISCA,SPECIAL EVENTS
ATTACH;FMTTYPE=image/jpeg:https://jp.kahalaresort.com/wp-content/uploads/1658181596-tutu_desktop-1.jpg
END:VEVENT
BEGIN:VEVENT
DTSTART;VALUE=DATE:20250704
DTEND;VALUE=DATE:20250705
DTSTAMP:20260423T113701
CREATED:20230115T220000Z
LAST-MODIFIED:20250811T223158Z
UID:10022112-1751587200-1751673599@jp.kahalaresort.com
SUMMARY:Lei Making
DESCRIPTION:
URL:https://jp.kahalaresort.com/event/lei-making-2/2025-07-04/
LOCATION:at THE VERANDA
CATEGORIES:ALL EVENTS,HEALTH & WELLBEING,KISCA,SPECIAL EVENTS
ATTACH;FMTTYPE=image/jpeg:https://jp.kahalaresort.com/wp-content/uploads/1639069510-Lei_Making_desktop-1.jpeg
END:VEVENT
BEGIN:VEVENT
DTSTART;VALUE=DATE:20250704
DTEND;VALUE=DATE:20250705
DTSTAMP:20260423T113701
CREATED:20230116T055908Z
LAST-MODIFIED:20260303T192217Z
UID:10018924-1751587200-1751673599@jp.kahalaresort.com
SUMMARY:Ocean Education Activity
DESCRIPTION:
URL:https://jp.kahalaresort.com/event/live-touch-tank-coral-activity/2025-07-04/
LOCATION:at POOLSIDE HALE
CATEGORIES:ALL EVENTS,HEALTH & WELLBEING,KISCA,SPECIAL EVENTS
ATTACH;FMTTYPE=image/jpeg:https://jp.kahalaresort.com/wp-content/uploads/1632756412-shutterstock_410084188_thumbnail.jpg
END:VEVENT
BEGIN:VEVENT
DTSTART;VALUE=DATE:20250706
DTEND;VALUE=DATE:20250707
DTSTAMP:20260423T113701
CREATED:20230115T220000Z
LAST-MODIFIED:20250811T223158Z
UID:10022113-1751760000-1751846399@jp.kahalaresort.com
SUMMARY:Lei Making
DESCRIPTION:
URL:https://jp.kahalaresort.com/event/lei-making-2/2025-07-06/
LOCATION:at THE VERANDA
CATEGORIES:ALL EVENTS,HEALTH & WELLBEING,KISCA,SPECIAL EVENTS
ATTACH;FMTTYPE=image/jpeg:https://jp.kahalaresort.com/wp-content/uploads/1639069510-Lei_Making_desktop-1.jpeg
END:VEVENT
BEGIN:VEVENT
DTSTART;VALUE=DATE:20250707
DTEND;VALUE=DATE:20250708
DTSTAMP:20260423T113701
CREATED:20230111T173130Z
LAST-MODIFIED:20250811T222836Z
UID:10013186-1751846400-1751932799@jp.kahalaresort.com
SUMMARY:Ohe Kapala Stamping by Na Mala Kahiko
DESCRIPTION:
URL:https://jp.kahalaresort.com/event/ohe-kapala-stamping-by-na-mala-kahiko/2025-07-07/
LOCATION:at THE VERANDA
CATEGORIES:ALL EVENTS,HEALTH & WELLBEING,KISCA,SPECIAL EVENTS
ATTACH;FMTTYPE=image/png:https://jp.kahalaresort.com/wp-content/uploads/1639080397-image014_desktop-2.png
END:VEVENT
BEGIN:VEVENT
DTSTART;VALUE=DATE:20250708
DTEND;VALUE=DATE:20250709
DTSTAMP:20260423T113701
CREATED:20230116T055908Z
LAST-MODIFIED:20260303T192217Z
UID:10026187-1751932800-1752019199@jp.kahalaresort.com
SUMMARY:Ocean Education Activity
DESCRIPTION:
URL:https://jp.kahalaresort.com/event/live-touch-tank-coral-activity/2025-07-08/
LOCATION:at POOLSIDE HALE
CATEGORIES:ALL EVENTS,HEALTH & WELLBEING,KISCA,SPECIAL EVENTS
ATTACH;FMTTYPE=image/jpeg:https://jp.kahalaresort.com/wp-content/uploads/1632756412-shutterstock_410084188_thumbnail.jpg
END:VEVENT
BEGIN:VEVENT
DTSTART;VALUE=DATE:20250708
DTEND;VALUE=DATE:20250709
DTSTAMP:20260423T113701
CREATED:20230525T201516Z
LAST-MODIFIED:20250811T222603Z
UID:10013447-1751932800-1752019199@jp.kahalaresort.com
SUMMARY:Lauhala Weaving
DESCRIPTION:
URL:https://jp.kahalaresort.com/event/lauhala-weaving-2/2025-07-08/
LOCATION:at THE VERANDA
CATEGORIES:ALL EVENTS,HEALTH & WELLBEING,KISCA,SPECIAL EVENTS
ATTACH;FMTTYPE=image/jpeg:https://jp.kahalaresort.com/wp-content/uploads/1639071856-Weaving_desktop-1.jpg
END:VEVENT
BEGIN:VEVENT
DTSTART;VALUE=DATE:20250709
DTEND;VALUE=DATE:20250710
DTSTAMP:20260423T113701
CREATED:20230111T175739Z
LAST-MODIFIED:20251124T184302Z
UID:10014494-1752019200-1752105599@jp.kahalaresort.com
SUMMARY:Keiki Art
DESCRIPTION:
URL:https://jp.kahalaresort.com/event/keiki-art/2025-07-09/
CATEGORIES:ALL EVENTS,HEALTH & WELLBEING,KISCA,SPECIAL EVENTS
ATTACH;FMTTYPE=image/jpeg:https://jp.kahalaresort.com/wp-content/uploads/1632757965-shutterstock_574858306_desktop.jpg
END:VEVENT
BEGIN:VEVENT
DTSTART;VALUE=DATE:20250709
DTEND;VALUE=DATE:20250710
DTSTAMP:20260423T113701
CREATED:20230115T220000Z
LAST-MODIFIED:20250811T223158Z
UID:10022114-1752019200-1752105599@jp.kahalaresort.com
SUMMARY:Lei Making
DESCRIPTION:
URL:https://jp.kahalaresort.com/event/lei-making-2/2025-07-09/
LOCATION:at THE VERANDA
CATEGORIES:ALL EVENTS,HEALTH & WELLBEING,KISCA,SPECIAL EVENTS
ATTACH;FMTTYPE=image/jpeg:https://jp.kahalaresort.com/wp-content/uploads/1639069510-Lei_Making_desktop-1.jpeg
END:VEVENT
BEGIN:VEVENT
DTSTART;VALUE=DATE:20250709
DTEND;VALUE=DATE:20250710
DTSTAMP:20260423T113701
CREATED:20230116T055908Z
LAST-MODIFIED:20260303T192217Z
UID:10018925-1752019200-1752105599@jp.kahalaresort.com
SUMMARY:Ocean Education Activity
DESCRIPTION:
URL:https://jp.kahalaresort.com/event/live-touch-tank-coral-activity/2025-07-09/
LOCATION:at POOLSIDE HALE
CATEGORIES:ALL EVENTS,HEALTH & WELLBEING,KISCA,SPECIAL EVENTS
ATTACH;FMTTYPE=image/jpeg:https://jp.kahalaresort.com/wp-content/uploads/1632756412-shutterstock_410084188_thumbnail.jpg
END:VEVENT
BEGIN:VEVENT
DTSTART;VALUE=DATE:20250710
DTEND;VALUE=DATE:20250711
DTSTAMP:20260423T113701
CREATED:20230111T180331Z
LAST-MODIFIED:20250811T222945Z
UID:10014232-1752105600-1752191999@jp.kahalaresort.com
SUMMARY:Haku Kupe’e Bracelet Making
DESCRIPTION:
URL:https://jp.kahalaresort.com/event/haku-kupee-bracelet-making/2025-07-10/
LOCATION:at THE VERANDA
CATEGORIES:ALL EVENTS,HEALTH & WELLBEING,KISCA,SPECIAL EVENTS
ATTACH;FMTTYPE=image/jpeg:https://jp.kahalaresort.com/wp-content/uploads/1657547631-Haku-Kupe-480x480_desktop-1.jpg
END:VEVENT
BEGIN:VEVENT
DTSTART;VALUE=DATE:20250711
DTEND;VALUE=DATE:20250712
DTSTAMP:20260423T113701
CREATED:20230110T001207Z
LAST-MODIFIED:20251109T173825Z
UID:10003273-1752192000-1752278399@jp.kahalaresort.com
SUMMARY:Storytelling by our Tutu
DESCRIPTION:
URL:https://jp.kahalaresort.com/event/storytelling-by-our-tutu/2025-07-11/
LOCATION:at THE VERANDA
CATEGORIES:ALL EVENTS,KISCA,SPECIAL EVENTS
ATTACH;FMTTYPE=image/jpeg:https://jp.kahalaresort.com/wp-content/uploads/1658181596-tutu_desktop-1.jpg
END:VEVENT
BEGIN:VEVENT
DTSTART;VALUE=DATE:20250711
DTEND;VALUE=DATE:20250712
DTSTAMP:20260423T113701
CREATED:20230115T220000Z
LAST-MODIFIED:20250811T223158Z
UID:10022115-1752192000-1752278399@jp.kahalaresort.com
SUMMARY:Lei Making
DESCRIPTION:
URL:https://jp.kahalaresort.com/event/lei-making-2/2025-07-11/
LOCATION:at THE VERANDA
CATEGORIES:ALL EVENTS,HEALTH & WELLBEING,KISCA,SPECIAL EVENTS
ATTACH;FMTTYPE=image/jpeg:https://jp.kahalaresort.com/wp-content/uploads/1639069510-Lei_Making_desktop-1.jpeg
END:VEVENT
BEGIN:VEVENT
DTSTART;VALUE=DATE:20250711
DTEND;VALUE=DATE:20250712
DTSTAMP:20260423T113701
CREATED:20230116T055908Z
LAST-MODIFIED:20260303T192217Z
UID:10018926-1752192000-1752278399@jp.kahalaresort.com
SUMMARY:Ocean Education Activity
DESCRIPTION:
URL:https://jp.kahalaresort.com/event/live-touch-tank-coral-activity/2025-07-11/
LOCATION:at POOLSIDE HALE
CATEGORIES:ALL EVENTS,HEALTH & WELLBEING,KISCA,SPECIAL EVENTS
ATTACH;FMTTYPE=image/jpeg:https://jp.kahalaresort.com/wp-content/uploads/1632756412-shutterstock_410084188_thumbnail.jpg
END:VEVENT
BEGIN:VEVENT
DTSTART;VALUE=DATE:20250713
DTEND;VALUE=DATE:20250714
DTSTAMP:20260423T113701
CREATED:20230115T220000Z
LAST-MODIFIED:20250811T223158Z
UID:10022116-1752364800-1752451199@jp.kahalaresort.com
SUMMARY:Lei Making
DESCRIPTION:
URL:https://jp.kahalaresort.com/event/lei-making-2/2025-07-13/
LOCATION:at THE VERANDA
CATEGORIES:ALL EVENTS,HEALTH & WELLBEING,KISCA,SPECIAL EVENTS
ATTACH;FMTTYPE=image/jpeg:https://jp.kahalaresort.com/wp-content/uploads/1639069510-Lei_Making_desktop-1.jpeg
END:VEVENT
BEGIN:VEVENT
DTSTART;VALUE=DATE:20250714
DTEND;VALUE=DATE:20250715
DTSTAMP:20260423T113701
CREATED:20230111T173130Z
LAST-MODIFIED:20250811T222836Z
UID:10013187-1752451200-1752537599@jp.kahalaresort.com
SUMMARY:Ohe Kapala Stamping by Na Mala Kahiko
DESCRIPTION:
URL:https://jp.kahalaresort.com/event/ohe-kapala-stamping-by-na-mala-kahiko/2025-07-14/
LOCATION:at THE VERANDA
CATEGORIES:ALL EVENTS,HEALTH & WELLBEING,KISCA,SPECIAL EVENTS
ATTACH;FMTTYPE=image/png:https://jp.kahalaresort.com/wp-content/uploads/1639080397-image014_desktop-2.png
END:VEVENT
BEGIN:VEVENT
DTSTART;VALUE=DATE:20250715
DTEND;VALUE=DATE:20250716
DTSTAMP:20260423T113701
CREATED:20230116T055908Z
LAST-MODIFIED:20260303T192217Z
UID:10026188-1752537600-1752623999@jp.kahalaresort.com
SUMMARY:Ocean Education Activity
DESCRIPTION:
URL:https://jp.kahalaresort.com/event/live-touch-tank-coral-activity/2025-07-15/
LOCATION:at POOLSIDE HALE
CATEGORIES:ALL EVENTS,HEALTH & WELLBEING,KISCA,SPECIAL EVENTS
ATTACH;FMTTYPE=image/jpeg:https://jp.kahalaresort.com/wp-content/uploads/1632756412-shutterstock_410084188_thumbnail.jpg
END:VEVENT
END:VCALENDAR