BEGIN:VCALENDAR
VERSION:2.0
PRODID:-//The Kahala Luxury Hotel &amp; Resort - ECPv6.14.2//NONSGML v1.0//EN
CALSCALE:GREGORIAN
METHOD:PUBLISH
X-ORIGINAL-URL:https://jp.kahalaresort.com
X-WR-CALDESC:Events for The Kahala Luxury Hotel &amp; Resort
REFRESH-INTERVAL;VALUE=DURATION:PT1H
X-Robots-Tag:noindex
X-PUBLISHED-TTL:PT1H
BEGIN:VTIMEZONE
TZID:Pacific/Honolulu
BEGIN:STANDARD
TZOFFSETFROM:-1000
TZOFFSETTO:-1000
TZNAME:HST
DTSTART:20260101T000000
END:STANDARD
END:VTIMEZONE
BEGIN:VEVENT
DTSTART;VALUE=DATE:20260303
DTEND;VALUE=DATE:20260304
DTSTAMP:20260421T140857
CREATED:20230116T055908Z
LAST-MODIFIED:20260303T192217Z
UID:10026221-1772496000-1772582399@jp.kahalaresort.com
SUMMARY:Ocean Education Activity
DESCRIPTION:
URL:https://jp.kahalaresort.com/event/live-touch-tank-coral-activity/2026-03-03/
LOCATION:at POOLSIDE HALE
CATEGORIES:ALL EVENTS,HEALTH & WELLBEING,KISCA,SPECIAL EVENTS
ATTACH;FMTTYPE=image/jpeg:https://jp.kahalaresort.com/wp-content/uploads/1632756412-shutterstock_410084188_thumbnail.jpg
END:VEVENT
BEGIN:VEVENT
DTSTART;VALUE=DATE:20260303
DTEND;VALUE=DATE:20260304
DTSTAMP:20260421T140857
CREATED:20260303T191159Z
LAST-MODIFIED:20260303T191200Z
UID:10013480-1772496000-1772582399@jp.kahalaresort.com
SUMMARY:Lauhala Weaving
DESCRIPTION:
URL:https://jp.kahalaresort.com/event/lauhala-weaving-2-2/
LOCATION:at THE VERANDA
CATEGORIES:ALL EVENTS,HEALTH & WELLBEING,KISCA,SPECIAL EVENTS
ATTACH;FMTTYPE=image/jpeg:https://jp.kahalaresort.com/wp-content/uploads/1639071856-Weaving_desktop-1.jpg
END:VEVENT
BEGIN:VEVENT
DTSTART;VALUE=DATE:20260304
DTEND;VALUE=DATE:20260305
DTSTAMP:20260421T140857
CREATED:20230116T055908Z
LAST-MODIFIED:20260303T192217Z
UID:10026222-1772582400-1772668799@jp.kahalaresort.com
SUMMARY:Ocean Education Activity
DESCRIPTION:
URL:https://jp.kahalaresort.com/event/live-touch-tank-coral-activity/2026-03-04/
LOCATION:at POOLSIDE HALE
CATEGORIES:ALL EVENTS,HEALTH & WELLBEING,KISCA,SPECIAL EVENTS
ATTACH;FMTTYPE=image/jpeg:https://jp.kahalaresort.com/wp-content/uploads/1632756412-shutterstock_410084188_thumbnail.jpg
END:VEVENT
BEGIN:VEVENT
DTSTART;VALUE=DATE:20260304
DTEND;VALUE=DATE:20260305
DTSTAMP:20260421T140857
CREATED:20260303T191326Z
LAST-MODIFIED:20260303T191705Z
UID:10014527-1772582400-1772668799@jp.kahalaresort.com
SUMMARY:Keiki Art
DESCRIPTION:
URL:https://jp.kahalaresort.com/event/keiki-art-2/2026-03-04/
CATEGORIES:ALL EVENTS,HEALTH & WELLBEING,KISCA,SPECIAL EVENTS
ATTACH;FMTTYPE=image/jpeg:https://jp.kahalaresort.com/wp-content/uploads/1632757965-shutterstock_574858306_desktop.jpg
END:VEVENT
BEGIN:VEVENT
DTSTART;VALUE=DATE:20260305
DTEND;VALUE=DATE:20260306
DTSTAMP:20260421T140858
CREATED:20260303T185714Z
LAST-MODIFIED:20260315T142935Z
UID:10014265-1772668800-1772755199@jp.kahalaresort.com
SUMMARY:Haku Kupe’e Bracelet Making
DESCRIPTION:
URL:https://jp.kahalaresort.com/event/haku-kupee-bracelet-making-2/2026-03-05/
LOCATION:at THE VERANDA
CATEGORIES:ALL EVENTS,HEALTH & WELLBEING,KISCA,SPECIAL EVENTS
ATTACH;FMTTYPE=image/jpeg:https://jp.kahalaresort.com/wp-content/uploads/1657547631-Haku-Kupe-480x480_desktop-1.jpg
END:VEVENT
BEGIN:VEVENT
DTSTART;VALUE=DATE:20260306
DTEND;VALUE=DATE:20260307
DTSTAMP:20260421T140858
CREATED:20230116T055908Z
LAST-MODIFIED:20260303T192217Z
UID:10026223-1772755200-1772841599@jp.kahalaresort.com
SUMMARY:Ocean Education Activity
DESCRIPTION:
URL:https://jp.kahalaresort.com/event/live-touch-tank-coral-activity/2026-03-06/
LOCATION:at POOLSIDE HALE
CATEGORIES:ALL EVENTS,HEALTH & WELLBEING,KISCA,SPECIAL EVENTS
ATTACH;FMTTYPE=image/jpeg:https://jp.kahalaresort.com/wp-content/uploads/1632756412-shutterstock_410084188_thumbnail.jpg
END:VEVENT
BEGIN:VEVENT
DTSTART;VALUE=DATE:20260306
DTEND;VALUE=DATE:20260307
DTSTAMP:20260421T140858
CREATED:20260303T190643Z
LAST-MODIFIED:20260303T190643Z
UID:10022214-1772755200-1772841599@jp.kahalaresort.com
SUMMARY:Lei Making
DESCRIPTION:
URL:https://jp.kahalaresort.com/event/lei-making-2-2-2/
LOCATION:at THE VERANDA
CATEGORIES:ALL EVENTS,HEALTH & WELLBEING,KISCA,SPECIAL EVENTS
ATTACH;FMTTYPE=image/jpeg:https://jp.kahalaresort.com/wp-content/uploads/1639069510-Lei_Making_desktop-1.jpeg
END:VEVENT
BEGIN:VEVENT
DTSTART;VALUE=DATE:20260310
DTEND;VALUE=DATE:20260311
DTSTAMP:20260421T140858
CREATED:20230116T055908Z
LAST-MODIFIED:20260303T192217Z
UID:10026224-1773100800-1773187199@jp.kahalaresort.com
SUMMARY:Ocean Education Activity
DESCRIPTION:
URL:https://jp.kahalaresort.com/event/live-touch-tank-coral-activity/2026-03-10/
LOCATION:at POOLSIDE HALE
CATEGORIES:ALL EVENTS,HEALTH & WELLBEING,KISCA,SPECIAL EVENTS
ATTACH;FMTTYPE=image/jpeg:https://jp.kahalaresort.com/wp-content/uploads/1632756412-shutterstock_410084188_thumbnail.jpg
END:VEVENT
BEGIN:VEVENT
DTSTART;VALUE=DATE:20260311
DTEND;VALUE=DATE:20260312
DTSTAMP:20260421T140858
CREATED:20230116T055908Z
LAST-MODIFIED:20260303T192217Z
UID:10026225-1773187200-1773273599@jp.kahalaresort.com
SUMMARY:Ocean Education Activity
DESCRIPTION:
URL:https://jp.kahalaresort.com/event/live-touch-tank-coral-activity/2026-03-11/
LOCATION:at POOLSIDE HALE
CATEGORIES:ALL EVENTS,HEALTH & WELLBEING,KISCA,SPECIAL EVENTS
ATTACH;FMTTYPE=image/jpeg:https://jp.kahalaresort.com/wp-content/uploads/1632756412-shutterstock_410084188_thumbnail.jpg
END:VEVENT
BEGIN:VEVENT
DTSTART;VALUE=DATE:20260311
DTEND;VALUE=DATE:20260312
DTSTAMP:20260421T140858
CREATED:20260303T191326Z
LAST-MODIFIED:20260303T191705Z
UID:10025539-1773187200-1773273599@jp.kahalaresort.com
SUMMARY:Keiki Art
DESCRIPTION:
URL:https://jp.kahalaresort.com/event/keiki-art-2/2026-03-11/
CATEGORIES:ALL EVENTS,HEALTH & WELLBEING,KISCA,SPECIAL EVENTS
ATTACH;FMTTYPE=image/jpeg:https://jp.kahalaresort.com/wp-content/uploads/1632757965-shutterstock_574858306_desktop.jpg
END:VEVENT
BEGIN:VEVENT
DTSTART;VALUE=DATE:20260312
DTEND;VALUE=DATE:20260313
DTSTAMP:20260421T140858
CREATED:20260303T185714Z
LAST-MODIFIED:20260315T142935Z
UID:10025475-1773273600-1773359999@jp.kahalaresort.com
SUMMARY:Haku Kupe’e Bracelet Making
DESCRIPTION:
URL:https://jp.kahalaresort.com/event/haku-kupee-bracelet-making-2/2026-03-12/
LOCATION:at THE VERANDA
CATEGORIES:ALL EVENTS,HEALTH & WELLBEING,KISCA,SPECIAL EVENTS
ATTACH;FMTTYPE=image/jpeg:https://jp.kahalaresort.com/wp-content/uploads/1657547631-Haku-Kupe-480x480_desktop-1.jpg
END:VEVENT
BEGIN:VEVENT
DTSTART;VALUE=DATE:20260313
DTEND;VALUE=DATE:20260314
DTSTAMP:20260421T140858
CREATED:20230116T055908Z
LAST-MODIFIED:20260303T192217Z
UID:10026226-1773360000-1773446399@jp.kahalaresort.com
SUMMARY:Ocean Education Activity
DESCRIPTION:
URL:https://jp.kahalaresort.com/event/live-touch-tank-coral-activity/2026-03-13/
LOCATION:at POOLSIDE HALE
CATEGORIES:ALL EVENTS,HEALTH & WELLBEING,KISCA,SPECIAL EVENTS
ATTACH;FMTTYPE=image/jpeg:https://jp.kahalaresort.com/wp-content/uploads/1632756412-shutterstock_410084188_thumbnail.jpg
END:VEVENT
BEGIN:VEVENT
DTSTART;VALUE=DATE:20260317
DTEND;VALUE=DATE:20260318
DTSTAMP:20260421T140858
CREATED:20230116T055908Z
LAST-MODIFIED:20260303T192217Z
UID:10026227-1773705600-1773791999@jp.kahalaresort.com
SUMMARY:Ocean Education Activity
DESCRIPTION:
URL:https://jp.kahalaresort.com/event/live-touch-tank-coral-activity/2026-03-17/
LOCATION:at POOLSIDE HALE
CATEGORIES:ALL EVENTS,HEALTH & WELLBEING,KISCA,SPECIAL EVENTS
ATTACH;FMTTYPE=image/jpeg:https://jp.kahalaresort.com/wp-content/uploads/1632756412-shutterstock_410084188_thumbnail.jpg
END:VEVENT
BEGIN:VEVENT
DTSTART;VALUE=DATE:20260318
DTEND;VALUE=DATE:20260319
DTSTAMP:20260421T140858
CREATED:20230116T055908Z
LAST-MODIFIED:20260303T192217Z
UID:10026228-1773792000-1773878399@jp.kahalaresort.com
SUMMARY:Ocean Education Activity
DESCRIPTION:
URL:https://jp.kahalaresort.com/event/live-touch-tank-coral-activity/2026-03-18/
LOCATION:at POOLSIDE HALE
CATEGORIES:ALL EVENTS,HEALTH & WELLBEING,KISCA,SPECIAL EVENTS
ATTACH;FMTTYPE=image/jpeg:https://jp.kahalaresort.com/wp-content/uploads/1632756412-shutterstock_410084188_thumbnail.jpg
END:VEVENT
BEGIN:VEVENT
DTSTART;VALUE=DATE:20260318
DTEND;VALUE=DATE:20260319
DTSTAMP:20260421T140858
CREATED:20260303T191326Z
LAST-MODIFIED:20260303T191705Z
UID:10025540-1773792000-1773878399@jp.kahalaresort.com
SUMMARY:Keiki Art
DESCRIPTION:
URL:https://jp.kahalaresort.com/event/keiki-art-2/2026-03-18/
CATEGORIES:ALL EVENTS,HEALTH & WELLBEING,KISCA,SPECIAL EVENTS
ATTACH;FMTTYPE=image/jpeg:https://jp.kahalaresort.com/wp-content/uploads/1632757965-shutterstock_574858306_desktop.jpg
END:VEVENT
BEGIN:VEVENT
DTSTART;VALUE=DATE:20260319
DTEND;VALUE=DATE:20260320
DTSTAMP:20260421T140858
CREATED:20260303T185714Z
LAST-MODIFIED:20260315T142935Z
UID:10025476-1773878400-1773964799@jp.kahalaresort.com
SUMMARY:Haku Kupe’e Bracelet Making
DESCRIPTION:
URL:https://jp.kahalaresort.com/event/haku-kupee-bracelet-making-2/2026-03-19/
LOCATION:at THE VERANDA
CATEGORIES:ALL EVENTS,HEALTH & WELLBEING,KISCA,SPECIAL EVENTS
ATTACH;FMTTYPE=image/jpeg:https://jp.kahalaresort.com/wp-content/uploads/1657547631-Haku-Kupe-480x480_desktop-1.jpg
END:VEVENT
BEGIN:VEVENT
DTSTART;VALUE=DATE:20260320
DTEND;VALUE=DATE:20260321
DTSTAMP:20260421T140858
CREATED:20230116T055908Z
LAST-MODIFIED:20260303T192217Z
UID:10026229-1773964800-1774051199@jp.kahalaresort.com
SUMMARY:Ocean Education Activity
DESCRIPTION:
URL:https://jp.kahalaresort.com/event/live-touch-tank-coral-activity/2026-03-20/
LOCATION:at POOLSIDE HALE
CATEGORIES:ALL EVENTS,HEALTH & WELLBEING,KISCA,SPECIAL EVENTS
ATTACH;FMTTYPE=image/jpeg:https://jp.kahalaresort.com/wp-content/uploads/1632756412-shutterstock_410084188_thumbnail.jpg
END:VEVENT
BEGIN:VEVENT
DTSTART;VALUE=DATE:20260324
DTEND;VALUE=DATE:20260325
DTSTAMP:20260421T140858
CREATED:20230116T055908Z
LAST-MODIFIED:20260303T192217Z
UID:10026230-1774310400-1774396799@jp.kahalaresort.com
SUMMARY:Ocean Education Activity
DESCRIPTION:
URL:https://jp.kahalaresort.com/event/live-touch-tank-coral-activity/2026-03-24/
LOCATION:at POOLSIDE HALE
CATEGORIES:ALL EVENTS,HEALTH & WELLBEING,KISCA,SPECIAL EVENTS
ATTACH;FMTTYPE=image/jpeg:https://jp.kahalaresort.com/wp-content/uploads/1632756412-shutterstock_410084188_thumbnail.jpg
END:VEVENT
BEGIN:VEVENT
DTSTART;VALUE=DATE:20260325
DTEND;VALUE=DATE:20260326
DTSTAMP:20260421T140858
CREATED:20230116T055908Z
LAST-MODIFIED:20260303T192217Z
UID:10026231-1774396800-1774483199@jp.kahalaresort.com
SUMMARY:Ocean Education Activity
DESCRIPTION:
URL:https://jp.kahalaresort.com/event/live-touch-tank-coral-activity/2026-03-25/
LOCATION:at POOLSIDE HALE
CATEGORIES:ALL EVENTS,HEALTH & WELLBEING,KISCA,SPECIAL EVENTS
ATTACH;FMTTYPE=image/jpeg:https://jp.kahalaresort.com/wp-content/uploads/1632756412-shutterstock_410084188_thumbnail.jpg
END:VEVENT
BEGIN:VEVENT
DTSTART;VALUE=DATE:20260325
DTEND;VALUE=DATE:20260326
DTSTAMP:20260421T140858
CREATED:20260303T191326Z
LAST-MODIFIED:20260303T191705Z
UID:10025541-1774396800-1774483199@jp.kahalaresort.com
SUMMARY:Keiki Art
DESCRIPTION:
URL:https://jp.kahalaresort.com/event/keiki-art-2/2026-03-25/
CATEGORIES:ALL EVENTS,HEALTH & WELLBEING,KISCA,SPECIAL EVENTS
ATTACH;FMTTYPE=image/jpeg:https://jp.kahalaresort.com/wp-content/uploads/1632757965-shutterstock_574858306_desktop.jpg
END:VEVENT
BEGIN:VEVENT
DTSTART;VALUE=DATE:20260326
DTEND;VALUE=DATE:20260327
DTSTAMP:20260421T140858
CREATED:20260303T185714Z
LAST-MODIFIED:20260315T142935Z
UID:10025477-1774483200-1774569599@jp.kahalaresort.com
SUMMARY:Haku Kupe’e Bracelet Making
DESCRIPTION:
URL:https://jp.kahalaresort.com/event/haku-kupee-bracelet-making-2/2026-03-26/
LOCATION:at THE VERANDA
CATEGORIES:ALL EVENTS,HEALTH & WELLBEING,KISCA,SPECIAL EVENTS
ATTACH;FMTTYPE=image/jpeg:https://jp.kahalaresort.com/wp-content/uploads/1657547631-Haku-Kupe-480x480_desktop-1.jpg
END:VEVENT
BEGIN:VEVENT
DTSTART;VALUE=DATE:20260327
DTEND;VALUE=DATE:20260328
DTSTAMP:20260421T140858
CREATED:20230116T055908Z
LAST-MODIFIED:20260303T192217Z
UID:10026232-1774569600-1774655999@jp.kahalaresort.com
SUMMARY:Ocean Education Activity
DESCRIPTION:
URL:https://jp.kahalaresort.com/event/live-touch-tank-coral-activity/2026-03-27/
LOCATION:at POOLSIDE HALE
CATEGORIES:ALL EVENTS,HEALTH & WELLBEING,KISCA,SPECIAL EVENTS
ATTACH;FMTTYPE=image/jpeg:https://jp.kahalaresort.com/wp-content/uploads/1632756412-shutterstock_410084188_thumbnail.jpg
END:VEVENT
BEGIN:VEVENT
DTSTART;VALUE=DATE:20260331
DTEND;VALUE=DATE:20260401
DTSTAMP:20260421T140858
CREATED:20230116T055908Z
LAST-MODIFIED:20260303T192217Z
UID:10026233-1774915200-1775001599@jp.kahalaresort.com
SUMMARY:Ocean Education Activity
DESCRIPTION:
URL:https://jp.kahalaresort.com/event/live-touch-tank-coral-activity/2026-03-31/
LOCATION:at POOLSIDE HALE
CATEGORIES:ALL EVENTS,HEALTH & WELLBEING,KISCA,SPECIAL EVENTS
ATTACH;FMTTYPE=image/jpeg:https://jp.kahalaresort.com/wp-content/uploads/1632756412-shutterstock_410084188_thumbnail.jpg
END:VEVENT
END:VCALENDAR