BEGIN:VCALENDAR
VERSION:2.0
PRODID:-//The Kahala Luxury Hotel &amp; Resort - ECPv6.14.2//NONSGML v1.0//EN
CALSCALE:GREGORIAN
METHOD:PUBLISH
X-ORIGINAL-URL:https://jp.kahalaresort.com
X-WR-CALDESC:Events for The Kahala Luxury Hotel &amp; Resort
REFRESH-INTERVAL;VALUE=DURATION:PT1H
X-Robots-Tag:noindex
X-PUBLISHED-TTL:PT1H
BEGIN:VTIMEZONE
TZID:Pacific/Honolulu
BEGIN:STANDARD
TZOFFSETFROM:-1000
TZOFFSETTO:-1000
TZNAME:HST
DTSTART:20250101T000000
END:STANDARD
END:VTIMEZONE
BEGIN:VEVENT
DTSTART;VALUE=DATE:20250429
DTEND;VALUE=DATE:20250430
DTSTAMP:20260424T170449
CREATED:20230113T013846Z
LAST-MODIFIED:20250811T222930Z
UID:10011807-1745884800-1745971199@jp.kahalaresort.com
SUMMARY:CHI Fitness Class: Yoga
DESCRIPTION:
URL:https://jp.kahalaresort.com/event/chi-fitness-class-yoga-2-2-2/2025-04-29/
LOCATION:at CHI Fitness
CATEGORIES:ALL EVENTS,HEALTH & WELLBEING
ATTACH;FMTTYPE=image/jpeg:https://jp.kahalaresort.com/wp-content/uploads/Yoga-3-revised.jpg
END:VEVENT
BEGIN:VEVENT
DTSTART;VALUE=DATE:20250429
DTEND;VALUE=DATE:20250430
DTSTAMP:20260424T170449
CREATED:20230116T055908Z
LAST-MODIFIED:20260303T192217Z
UID:10026177-1745884800-1745971199@jp.kahalaresort.com
SUMMARY:Ocean Education Activity
DESCRIPTION:
URL:https://jp.kahalaresort.com/event/live-touch-tank-coral-activity/2025-04-29/
LOCATION:at POOLSIDE HALE
CATEGORIES:ALL EVENTS,HEALTH & WELLBEING,KISCA,SPECIAL EVENTS
ATTACH;FMTTYPE=image/jpeg:https://jp.kahalaresort.com/wp-content/uploads/1632756412-shutterstock_410084188_thumbnail.jpg
END:VEVENT
BEGIN:VEVENT
DTSTART;VALUE=DATE:20250429
DTEND;VALUE=DATE:20250430
DTSTAMP:20260424T170449
CREATED:20230525T201516Z
LAST-MODIFIED:20250811T222603Z
UID:10013437-1745884800-1745971199@jp.kahalaresort.com
SUMMARY:Lauhala Weaving
DESCRIPTION:
URL:https://jp.kahalaresort.com/event/lauhala-weaving-2/2025-04-29/
LOCATION:at THE VERANDA
CATEGORIES:ALL EVENTS,HEALTH & WELLBEING,KISCA,SPECIAL EVENTS
ATTACH;FMTTYPE=image/jpeg:https://jp.kahalaresort.com/wp-content/uploads/1639071856-Weaving_desktop-1.jpg
END:VEVENT
BEGIN:VEVENT
DTSTART;VALUE=DATE:20250430
DTEND;VALUE=DATE:20250501
DTSTAMP:20260424T170449
CREATED:20230111T175739Z
LAST-MODIFIED:20251124T184302Z
UID:10014484-1745971200-1746057599@jp.kahalaresort.com
SUMMARY:Keiki Art
DESCRIPTION:
URL:https://jp.kahalaresort.com/event/keiki-art/2025-04-30/
CATEGORIES:ALL EVENTS,HEALTH & WELLBEING,KISCA,SPECIAL EVENTS
ATTACH;FMTTYPE=image/jpeg:https://jp.kahalaresort.com/wp-content/uploads/1632757965-shutterstock_574858306_desktop.jpg
END:VEVENT
BEGIN:VEVENT
DTSTART;VALUE=DATE:20250430
DTEND;VALUE=DATE:20250501
DTSTAMP:20260424T170449
CREATED:20230113T013846Z
LAST-MODIFIED:20250811T222930Z
UID:10011808-1745971200-1746057599@jp.kahalaresort.com
SUMMARY:CHI Fitness Class: Yoga
DESCRIPTION:
URL:https://jp.kahalaresort.com/event/chi-fitness-class-yoga-2-2-2/2025-04-30/
LOCATION:at CHI Fitness
CATEGORIES:ALL EVENTS,HEALTH & WELLBEING
ATTACH;FMTTYPE=image/jpeg:https://jp.kahalaresort.com/wp-content/uploads/Yoga-3-revised.jpg
END:VEVENT
BEGIN:VEVENT
DTSTART;VALUE=DATE:20250430
DTEND;VALUE=DATE:20250501
DTSTAMP:20260424T170449
CREATED:20230115T220000Z
LAST-MODIFIED:20250811T223158Z
UID:10022084-1745971200-1746057599@jp.kahalaresort.com
SUMMARY:Lei Making
DESCRIPTION:
URL:https://jp.kahalaresort.com/event/lei-making-2/2025-04-30/
LOCATION:at THE VERANDA
CATEGORIES:ALL EVENTS,HEALTH & WELLBEING,KISCA,SPECIAL EVENTS
ATTACH;FMTTYPE=image/jpeg:https://jp.kahalaresort.com/wp-content/uploads/1639069510-Lei_Making_desktop-1.jpeg
END:VEVENT
BEGIN:VEVENT
DTSTART;VALUE=DATE:20250430
DTEND;VALUE=DATE:20250501
DTSTAMP:20260424T170449
CREATED:20230116T055908Z
LAST-MODIFIED:20260303T192217Z
UID:10018905-1745971200-1746057599@jp.kahalaresort.com
SUMMARY:Ocean Education Activity
DESCRIPTION:
URL:https://jp.kahalaresort.com/event/live-touch-tank-coral-activity/2025-04-30/
LOCATION:at POOLSIDE HALE
CATEGORIES:ALL EVENTS,HEALTH & WELLBEING,KISCA,SPECIAL EVENTS
ATTACH;FMTTYPE=image/jpeg:https://jp.kahalaresort.com/wp-content/uploads/1632756412-shutterstock_410084188_thumbnail.jpg
END:VEVENT
BEGIN:VEVENT
DTSTART;VALUE=DATE:20250501
DTEND;VALUE=DATE:20250502
DTSTAMP:20260424T170449
CREATED:20230111T180331Z
LAST-MODIFIED:20250811T222945Z
UID:10014222-1746057600-1746143999@jp.kahalaresort.com
SUMMARY:Haku Kupe’e Bracelet Making
DESCRIPTION:
URL:https://jp.kahalaresort.com/event/haku-kupee-bracelet-making/2025-05-01/
LOCATION:at THE VERANDA
CATEGORIES:ALL EVENTS,HEALTH & WELLBEING,KISCA,SPECIAL EVENTS
ATTACH;FMTTYPE=image/jpeg:https://jp.kahalaresort.com/wp-content/uploads/1657547631-Haku-Kupe-480x480_desktop-1.jpg
END:VEVENT
BEGIN:VEVENT
DTSTART;VALUE=DATE:20250501
DTEND;VALUE=DATE:20250502
DTSTAMP:20260424T170449
CREATED:20230113T013846Z
LAST-MODIFIED:20250811T222930Z
UID:10011809-1746057600-1746143999@jp.kahalaresort.com
SUMMARY:CHI Fitness Class: Yoga
DESCRIPTION:
URL:https://jp.kahalaresort.com/event/chi-fitness-class-yoga-2-2-2/2025-05-01/
LOCATION:at CHI Fitness
CATEGORIES:ALL EVENTS,HEALTH & WELLBEING
ATTACH;FMTTYPE=image/jpeg:https://jp.kahalaresort.com/wp-content/uploads/Yoga-3-revised.jpg
END:VEVENT
BEGIN:VEVENT
DTSTART;VALUE=DATE:20250502
DTEND;VALUE=DATE:20250503
DTSTAMP:20260424T170449
CREATED:20230113T013846Z
LAST-MODIFIED:20250811T222930Z
UID:10011810-1746144000-1746230399@jp.kahalaresort.com
SUMMARY:CHI Fitness Class: Yoga
DESCRIPTION:
URL:https://jp.kahalaresort.com/event/chi-fitness-class-yoga-2-2-2/2025-05-02/
LOCATION:at CHI Fitness
CATEGORIES:ALL EVENTS,HEALTH & WELLBEING
ATTACH;FMTTYPE=image/jpeg:https://jp.kahalaresort.com/wp-content/uploads/Yoga-3-revised.jpg
END:VEVENT
BEGIN:VEVENT
DTSTART;VALUE=DATE:20250502
DTEND;VALUE=DATE:20250503
DTSTAMP:20260424T170449
CREATED:20230115T220000Z
LAST-MODIFIED:20250811T223158Z
UID:10022085-1746144000-1746230399@jp.kahalaresort.com
SUMMARY:Lei Making
DESCRIPTION:
URL:https://jp.kahalaresort.com/event/lei-making-2/2025-05-02/
LOCATION:at THE VERANDA
CATEGORIES:ALL EVENTS,HEALTH & WELLBEING,KISCA,SPECIAL EVENTS
ATTACH;FMTTYPE=image/jpeg:https://jp.kahalaresort.com/wp-content/uploads/1639069510-Lei_Making_desktop-1.jpeg
END:VEVENT
BEGIN:VEVENT
DTSTART;VALUE=DATE:20250502
DTEND;VALUE=DATE:20250503
DTSTAMP:20260424T170449
CREATED:20230116T055908Z
LAST-MODIFIED:20260303T192217Z
UID:10018906-1746144000-1746230399@jp.kahalaresort.com
SUMMARY:Ocean Education Activity
DESCRIPTION:
URL:https://jp.kahalaresort.com/event/live-touch-tank-coral-activity/2025-05-02/
LOCATION:at POOLSIDE HALE
CATEGORIES:ALL EVENTS,HEALTH & WELLBEING,KISCA,SPECIAL EVENTS
ATTACH;FMTTYPE=image/jpeg:https://jp.kahalaresort.com/wp-content/uploads/1632756412-shutterstock_410084188_thumbnail.jpg
END:VEVENT
BEGIN:VEVENT
DTSTART;VALUE=DATE:20250503
DTEND;VALUE=DATE:20250504
DTSTAMP:20260424T170449
CREATED:20230113T013846Z
LAST-MODIFIED:20250811T222930Z
UID:10011811-1746230400-1746316799@jp.kahalaresort.com
SUMMARY:CHI Fitness Class: Yoga
DESCRIPTION:
URL:https://jp.kahalaresort.com/event/chi-fitness-class-yoga-2-2-2/2025-05-03/
LOCATION:at CHI Fitness
CATEGORIES:ALL EVENTS,HEALTH & WELLBEING
ATTACH;FMTTYPE=image/jpeg:https://jp.kahalaresort.com/wp-content/uploads/Yoga-3-revised.jpg
END:VEVENT
BEGIN:VEVENT
DTSTART;VALUE=DATE:20250504
DTEND;VALUE=DATE:20250505
DTSTAMP:20260424T170449
CREATED:20230113T013846Z
LAST-MODIFIED:20250811T222930Z
UID:10011812-1746316800-1746403199@jp.kahalaresort.com
SUMMARY:CHI Fitness Class: Yoga
DESCRIPTION:
URL:https://jp.kahalaresort.com/event/chi-fitness-class-yoga-2-2-2/2025-05-04/
LOCATION:at CHI Fitness
CATEGORIES:ALL EVENTS,HEALTH & WELLBEING
ATTACH;FMTTYPE=image/jpeg:https://jp.kahalaresort.com/wp-content/uploads/Yoga-3-revised.jpg
END:VEVENT
BEGIN:VEVENT
DTSTART;VALUE=DATE:20250504
DTEND;VALUE=DATE:20250505
DTSTAMP:20260424T170449
CREATED:20230115T220000Z
LAST-MODIFIED:20250811T223158Z
UID:10022086-1746316800-1746403199@jp.kahalaresort.com
SUMMARY:Lei Making
DESCRIPTION:
URL:https://jp.kahalaresort.com/event/lei-making-2/2025-05-04/
LOCATION:at THE VERANDA
CATEGORIES:ALL EVENTS,HEALTH & WELLBEING,KISCA,SPECIAL EVENTS
ATTACH;FMTTYPE=image/jpeg:https://jp.kahalaresort.com/wp-content/uploads/1639069510-Lei_Making_desktop-1.jpeg
END:VEVENT
BEGIN:VEVENT
DTSTART;VALUE=DATE:20250505
DTEND;VALUE=DATE:20250506
DTSTAMP:20260424T170449
CREATED:20230111T173130Z
LAST-MODIFIED:20250811T222836Z
UID:10013177-1746403200-1746489599@jp.kahalaresort.com
SUMMARY:Ohe Kapala Stamping by Na Mala Kahiko
DESCRIPTION:
URL:https://jp.kahalaresort.com/event/ohe-kapala-stamping-by-na-mala-kahiko/2025-05-05/
LOCATION:at THE VERANDA
CATEGORIES:ALL EVENTS,HEALTH & WELLBEING,KISCA,SPECIAL EVENTS
ATTACH;FMTTYPE=image/png:https://jp.kahalaresort.com/wp-content/uploads/1639080397-image014_desktop-2.png
END:VEVENT
BEGIN:VEVENT
DTSTART;VALUE=DATE:20250505
DTEND;VALUE=DATE:20250506
DTSTAMP:20260424T170449
CREATED:20230113T013846Z
LAST-MODIFIED:20250811T222930Z
UID:10011813-1746403200-1746489599@jp.kahalaresort.com
SUMMARY:CHI Fitness Class: Yoga
DESCRIPTION:
URL:https://jp.kahalaresort.com/event/chi-fitness-class-yoga-2-2-2/2025-05-05/
LOCATION:at CHI Fitness
CATEGORIES:ALL EVENTS,HEALTH & WELLBEING
ATTACH;FMTTYPE=image/jpeg:https://jp.kahalaresort.com/wp-content/uploads/Yoga-3-revised.jpg
END:VEVENT
BEGIN:VEVENT
DTSTART;VALUE=DATE:20250506
DTEND;VALUE=DATE:20250507
DTSTAMP:20260424T170449
CREATED:20230113T013846Z
LAST-MODIFIED:20250811T222930Z
UID:10011814-1746489600-1746575999@jp.kahalaresort.com
SUMMARY:CHI Fitness Class: Yoga
DESCRIPTION:
URL:https://jp.kahalaresort.com/event/chi-fitness-class-yoga-2-2-2/2025-05-06/
LOCATION:at CHI Fitness
CATEGORIES:ALL EVENTS,HEALTH & WELLBEING
ATTACH;FMTTYPE=image/jpeg:https://jp.kahalaresort.com/wp-content/uploads/Yoga-3-revised.jpg
END:VEVENT
BEGIN:VEVENT
DTSTART;VALUE=DATE:20250506
DTEND;VALUE=DATE:20250507
DTSTAMP:20260424T170449
CREATED:20230116T055908Z
LAST-MODIFIED:20260303T192217Z
UID:10026178-1746489600-1746575999@jp.kahalaresort.com
SUMMARY:Ocean Education Activity
DESCRIPTION:
URL:https://jp.kahalaresort.com/event/live-touch-tank-coral-activity/2025-05-06/
LOCATION:at POOLSIDE HALE
CATEGORIES:ALL EVENTS,HEALTH & WELLBEING,KISCA,SPECIAL EVENTS
ATTACH;FMTTYPE=image/jpeg:https://jp.kahalaresort.com/wp-content/uploads/1632756412-shutterstock_410084188_thumbnail.jpg
END:VEVENT
BEGIN:VEVENT
DTSTART;VALUE=DATE:20250506
DTEND;VALUE=DATE:20250507
DTSTAMP:20260424T170449
CREATED:20230525T201516Z
LAST-MODIFIED:20250811T222603Z
UID:10013438-1746489600-1746575999@jp.kahalaresort.com
SUMMARY:Lauhala Weaving
DESCRIPTION:
URL:https://jp.kahalaresort.com/event/lauhala-weaving-2/2025-05-06/
LOCATION:at THE VERANDA
CATEGORIES:ALL EVENTS,HEALTH & WELLBEING,KISCA,SPECIAL EVENTS
ATTACH;FMTTYPE=image/jpeg:https://jp.kahalaresort.com/wp-content/uploads/1639071856-Weaving_desktop-1.jpg
END:VEVENT
BEGIN:VEVENT
DTSTART;VALUE=DATE:20250507
DTEND;VALUE=DATE:20250508
DTSTAMP:20260424T170449
CREATED:20230111T175739Z
LAST-MODIFIED:20251124T184302Z
UID:10014485-1746576000-1746662399@jp.kahalaresort.com
SUMMARY:Keiki Art
DESCRIPTION:
URL:https://jp.kahalaresort.com/event/keiki-art/2025-05-07/
CATEGORIES:ALL EVENTS,HEALTH & WELLBEING,KISCA,SPECIAL EVENTS
ATTACH;FMTTYPE=image/jpeg:https://jp.kahalaresort.com/wp-content/uploads/1632757965-shutterstock_574858306_desktop.jpg
END:VEVENT
BEGIN:VEVENT
DTSTART;VALUE=DATE:20250507
DTEND;VALUE=DATE:20250508
DTSTAMP:20260424T170449
CREATED:20230113T013846Z
LAST-MODIFIED:20250811T222930Z
UID:10011815-1746576000-1746662399@jp.kahalaresort.com
SUMMARY:CHI Fitness Class: Yoga
DESCRIPTION:
URL:https://jp.kahalaresort.com/event/chi-fitness-class-yoga-2-2-2/2025-05-07/
LOCATION:at CHI Fitness
CATEGORIES:ALL EVENTS,HEALTH & WELLBEING
ATTACH;FMTTYPE=image/jpeg:https://jp.kahalaresort.com/wp-content/uploads/Yoga-3-revised.jpg
END:VEVENT
BEGIN:VEVENT
DTSTART;VALUE=DATE:20250507
DTEND;VALUE=DATE:20250508
DTSTAMP:20260424T170449
CREATED:20230115T220000Z
LAST-MODIFIED:20250811T223158Z
UID:10022087-1746576000-1746662399@jp.kahalaresort.com
SUMMARY:Lei Making
DESCRIPTION:
URL:https://jp.kahalaresort.com/event/lei-making-2/2025-05-07/
LOCATION:at THE VERANDA
CATEGORIES:ALL EVENTS,HEALTH & WELLBEING,KISCA,SPECIAL EVENTS
ATTACH;FMTTYPE=image/jpeg:https://jp.kahalaresort.com/wp-content/uploads/1639069510-Lei_Making_desktop-1.jpeg
END:VEVENT
BEGIN:VEVENT
DTSTART;VALUE=DATE:20250507
DTEND;VALUE=DATE:20250508
DTSTAMP:20260424T170449
CREATED:20230116T055908Z
LAST-MODIFIED:20260303T192217Z
UID:10018907-1746576000-1746662399@jp.kahalaresort.com
SUMMARY:Ocean Education Activity
DESCRIPTION:
URL:https://jp.kahalaresort.com/event/live-touch-tank-coral-activity/2025-05-07/
LOCATION:at POOLSIDE HALE
CATEGORIES:ALL EVENTS,HEALTH & WELLBEING,KISCA,SPECIAL EVENTS
ATTACH;FMTTYPE=image/jpeg:https://jp.kahalaresort.com/wp-content/uploads/1632756412-shutterstock_410084188_thumbnail.jpg
END:VEVENT
BEGIN:VEVENT
DTSTART;VALUE=DATE:20250508
DTEND;VALUE=DATE:20250509
DTSTAMP:20260424T170449
CREATED:20230111T180331Z
LAST-MODIFIED:20250811T222945Z
UID:10014223-1746662400-1746748799@jp.kahalaresort.com
SUMMARY:Haku Kupe’e Bracelet Making
DESCRIPTION:
URL:https://jp.kahalaresort.com/event/haku-kupee-bracelet-making/2025-05-08/
LOCATION:at THE VERANDA
CATEGORIES:ALL EVENTS,HEALTH & WELLBEING,KISCA,SPECIAL EVENTS
ATTACH;FMTTYPE=image/jpeg:https://jp.kahalaresort.com/wp-content/uploads/1657547631-Haku-Kupe-480x480_desktop-1.jpg
END:VEVENT
BEGIN:VEVENT
DTSTART;VALUE=DATE:20250508
DTEND;VALUE=DATE:20250509
DTSTAMP:20260424T170449
CREATED:20230113T013846Z
LAST-MODIFIED:20250811T222930Z
UID:10011816-1746662400-1746748799@jp.kahalaresort.com
SUMMARY:CHI Fitness Class: Yoga
DESCRIPTION:
URL:https://jp.kahalaresort.com/event/chi-fitness-class-yoga-2-2-2/2025-05-08/
LOCATION:at CHI Fitness
CATEGORIES:ALL EVENTS,HEALTH & WELLBEING
ATTACH;FMTTYPE=image/jpeg:https://jp.kahalaresort.com/wp-content/uploads/Yoga-3-revised.jpg
END:VEVENT
BEGIN:VEVENT
DTSTART;VALUE=DATE:20250509
DTEND;VALUE=DATE:20250510
DTSTAMP:20260424T170449
CREATED:20230113T013846Z
LAST-MODIFIED:20250811T222930Z
UID:10011817-1746748800-1746835199@jp.kahalaresort.com
SUMMARY:CHI Fitness Class: Yoga
DESCRIPTION:
URL:https://jp.kahalaresort.com/event/chi-fitness-class-yoga-2-2-2/2025-05-09/
LOCATION:at CHI Fitness
CATEGORIES:ALL EVENTS,HEALTH & WELLBEING
ATTACH;FMTTYPE=image/jpeg:https://jp.kahalaresort.com/wp-content/uploads/Yoga-3-revised.jpg
END:VEVENT
BEGIN:VEVENT
DTSTART;VALUE=DATE:20250509
DTEND;VALUE=DATE:20250510
DTSTAMP:20260424T170450
CREATED:20230115T220000Z
LAST-MODIFIED:20250811T223158Z
UID:10022088-1746748800-1746835199@jp.kahalaresort.com
SUMMARY:Lei Making
DESCRIPTION:
URL:https://jp.kahalaresort.com/event/lei-making-2/2025-05-09/
LOCATION:at THE VERANDA
CATEGORIES:ALL EVENTS,HEALTH & WELLBEING,KISCA,SPECIAL EVENTS
ATTACH;FMTTYPE=image/jpeg:https://jp.kahalaresort.com/wp-content/uploads/1639069510-Lei_Making_desktop-1.jpeg
END:VEVENT
BEGIN:VEVENT
DTSTART;VALUE=DATE:20250509
DTEND;VALUE=DATE:20250510
DTSTAMP:20260424T170450
CREATED:20230116T055908Z
LAST-MODIFIED:20260303T192217Z
UID:10018908-1746748800-1746835199@jp.kahalaresort.com
SUMMARY:Ocean Education Activity
DESCRIPTION:
URL:https://jp.kahalaresort.com/event/live-touch-tank-coral-activity/2025-05-09/
LOCATION:at POOLSIDE HALE
CATEGORIES:ALL EVENTS,HEALTH & WELLBEING,KISCA,SPECIAL EVENTS
ATTACH;FMTTYPE=image/jpeg:https://jp.kahalaresort.com/wp-content/uploads/1632756412-shutterstock_410084188_thumbnail.jpg
END:VEVENT
BEGIN:VEVENT
DTSTART;VALUE=DATE:20250510
DTEND;VALUE=DATE:20250511
DTSTAMP:20260424T170450
CREATED:20230113T013846Z
LAST-MODIFIED:20250811T222930Z
UID:10011818-1746835200-1746921599@jp.kahalaresort.com
SUMMARY:CHI Fitness Class: Yoga
DESCRIPTION:
URL:https://jp.kahalaresort.com/event/chi-fitness-class-yoga-2-2-2/2025-05-10/
LOCATION:at CHI Fitness
CATEGORIES:ALL EVENTS,HEALTH & WELLBEING
ATTACH;FMTTYPE=image/jpeg:https://jp.kahalaresort.com/wp-content/uploads/Yoga-3-revised.jpg
END:VEVENT
END:VCALENDAR