BEGIN:VCALENDAR
VERSION:2.0
PRODID:-//The Kahala Luxury Hotel &amp; Resort - ECPv6.14.2//NONSGML v1.0//EN
CALSCALE:GREGORIAN
METHOD:PUBLISH
X-ORIGINAL-URL:https://jp.kahalaresort.com
X-WR-CALDESC:Events for The Kahala Luxury Hotel &amp; Resort
REFRESH-INTERVAL;VALUE=DURATION:PT1H
X-Robots-Tag:noindex
X-PUBLISHED-TTL:PT1H
BEGIN:VTIMEZONE
TZID:Pacific/Honolulu
BEGIN:STANDARD
TZOFFSETFROM:-1000
TZOFFSETTO:-1000
TZNAME:HST
DTSTART:20260101T000000
END:STANDARD
END:VTIMEZONE
BEGIN:VEVENT
DTSTART;VALUE=DATE:20260425
DTEND;VALUE=DATE:20260426
DTSTAMP:20260424T062022
CREATED:20260303T185525Z
LAST-MODIFIED:20260303T185549Z
UID:10025417-1777075200-1777161599@jp.kahalaresort.com
SUMMARY:Classic Afternoon Tea
DESCRIPTION:
URL:https://jp.kahalaresort.com/event/classic-afternoon-tea-3-2/2026-04-25/
LOCATION:at THE VERANDA
CATEGORIES:ALL EVENTS,DINING,SPECIAL EVENTS
ATTACH;FMTTYPE=image/jpeg:https://jp.kahalaresort.com/wp-content/uploads/1651073317-insta_86_thumbnail.jpg
END:VEVENT
BEGIN:VEVENT
DTSTART;VALUE=DATE:20260426
DTEND;VALUE=DATE:20260427
DTSTAMP:20260424T062022
CREATED:20251021T181503Z
LAST-MODIFIED:20260306T230925Z
UID:10022287-1777161600-1777247999@jp.kahalaresort.com
SUMMARY:Pāʻina: A Hawaiian inspired buffet
DESCRIPTION:
URL:https://jp.kahalaresort.com/event/pa%ca%bbina-a-hawaiian-inspired-buffet-3/2026-04-26/
LOCATION:at PLUMERIA BEACH HOUSE
CATEGORIES:ALL EVENTS,DINING,SPECIAL EVENTS
ATTACH;FMTTYPE=image/jpeg:https://jp.kahalaresort.com/wp-content/uploads/Paina-1.jpg
END:VEVENT
END:VCALENDAR