BEGIN:VCALENDAR
VERSION:2.0
PRODID:-//The Kahala Luxury Hotel &amp; Resort - ECPv6.14.2//NONSGML v1.0//EN
CALSCALE:GREGORIAN
METHOD:PUBLISH
X-WR-CALNAME:The Kahala Luxury Hotel &amp; Resort
X-ORIGINAL-URL:https://jp.kahalaresort.com
X-WR-CALDESC:Events for The Kahala Luxury Hotel &amp; Resort
REFRESH-INTERVAL;VALUE=DURATION:PT1H
X-Robots-Tag:noindex
X-PUBLISHED-TTL:PT1H
BEGIN:VTIMEZONE
TZID:Pacific/Honolulu
BEGIN:STANDARD
TZOFFSETFROM:-1000
TZOFFSETTO:-1000
TZNAME:HST
DTSTART:20250101T000000
END:STANDARD
END:VTIMEZONE
BEGIN:VEVENT
DTSTART;VALUE=DATE:20250704
DTEND;VALUE=DATE:20250705
DTSTAMP:20260422T205509
CREATED:20230114T011837Z
LAST-MODIFIED:20251109T193814Z
UID:10016004-1751587200-1751673599@jp.kahalaresort.com
SUMMARY:Seafood Buffet
DESCRIPTION:
URL:https://jp.kahalaresort.com/event/seafood-buffet/2025-07-04/
LOCATION:at PLUMERIA BEACH HOUSE
CATEGORIES:ALL EVENTS,DINING
ATTACH;FMTTYPE=image/jpeg:https://jp.kahalaresort.com/wp-content/uploads/1619204503-Seafood-Buffet_480x480_desktop.jpg
END:VEVENT
BEGIN:VEVENT
DTSTART;VALUE=DATE:20250705
DTEND;VALUE=DATE:20250706
DTSTAMP:20260422T205509
CREATED:20230114T011837Z
LAST-MODIFIED:20251109T193814Z
UID:10016005-1751673600-1751759999@jp.kahalaresort.com
SUMMARY:Seafood Buffet
DESCRIPTION:
URL:https://jp.kahalaresort.com/event/seafood-buffet/2025-07-05/
LOCATION:at PLUMERIA BEACH HOUSE
CATEGORIES:ALL EVENTS,DINING
ATTACH;FMTTYPE=image/jpeg:https://jp.kahalaresort.com/wp-content/uploads/1619204503-Seafood-Buffet_480x480_desktop.jpg
END:VEVENT
BEGIN:VEVENT
DTSTART;VALUE=DATE:20250711
DTEND;VALUE=DATE:20250712
DTSTAMP:20260422T205509
CREATED:20230114T011837Z
LAST-MODIFIED:20251109T193814Z
UID:10015291-1752192000-1752278399@jp.kahalaresort.com
SUMMARY:Seafood Buffet
DESCRIPTION:
URL:https://jp.kahalaresort.com/event/seafood-buffet/2025-07-11/
LOCATION:at PLUMERIA BEACH HOUSE
CATEGORIES:ALL EVENTS,DINING
ATTACH;FMTTYPE=image/jpeg:https://jp.kahalaresort.com/wp-content/uploads/1619204503-Seafood-Buffet_480x480_desktop.jpg
END:VEVENT
BEGIN:VEVENT
DTSTART;VALUE=DATE:20250712
DTEND;VALUE=DATE:20250713
DTSTAMP:20260422T205509
CREATED:20230114T011837Z
LAST-MODIFIED:20251109T193814Z
UID:10015292-1752278400-1752364799@jp.kahalaresort.com
SUMMARY:Seafood Buffet
DESCRIPTION:
URL:https://jp.kahalaresort.com/event/seafood-buffet/2025-07-12/
LOCATION:at PLUMERIA BEACH HOUSE
CATEGORIES:ALL EVENTS,DINING
ATTACH;FMTTYPE=image/jpeg:https://jp.kahalaresort.com/wp-content/uploads/1619204503-Seafood-Buffet_480x480_desktop.jpg
END:VEVENT
BEGIN:VEVENT
DTSTART;VALUE=DATE:20250718
DTEND;VALUE=DATE:20250719
DTSTAMP:20260422T205509
CREATED:20230114T011837Z
LAST-MODIFIED:20251109T193814Z
UID:10016006-1752796800-1752883199@jp.kahalaresort.com
SUMMARY:Seafood Buffet
DESCRIPTION:
URL:https://jp.kahalaresort.com/event/seafood-buffet/2025-07-18/
LOCATION:at PLUMERIA BEACH HOUSE
CATEGORIES:ALL EVENTS,DINING
ATTACH;FMTTYPE=image/jpeg:https://jp.kahalaresort.com/wp-content/uploads/1619204503-Seafood-Buffet_480x480_desktop.jpg
END:VEVENT
BEGIN:VEVENT
DTSTART;VALUE=DATE:20250719
DTEND;VALUE=DATE:20250720
DTSTAMP:20260422T205509
CREATED:20230114T011837Z
LAST-MODIFIED:20251109T193814Z
UID:10016007-1752883200-1752969599@jp.kahalaresort.com
SUMMARY:Seafood Buffet
DESCRIPTION:
URL:https://jp.kahalaresort.com/event/seafood-buffet/2025-07-19/
LOCATION:at PLUMERIA BEACH HOUSE
CATEGORIES:ALL EVENTS,DINING
ATTACH;FMTTYPE=image/jpeg:https://jp.kahalaresort.com/wp-content/uploads/1619204503-Seafood-Buffet_480x480_desktop.jpg
END:VEVENT
BEGIN:VEVENT
DTSTART;VALUE=DATE:20250725
DTEND;VALUE=DATE:20250726
DTSTAMP:20260422T205509
CREATED:20230114T011837Z
LAST-MODIFIED:20251109T193814Z
UID:10015293-1753401600-1753487999@jp.kahalaresort.com
SUMMARY:Seafood Buffet
DESCRIPTION:
URL:https://jp.kahalaresort.com/event/seafood-buffet/2025-07-25/
LOCATION:at PLUMERIA BEACH HOUSE
CATEGORIES:ALL EVENTS,DINING
ATTACH;FMTTYPE=image/jpeg:https://jp.kahalaresort.com/wp-content/uploads/1619204503-Seafood-Buffet_480x480_desktop.jpg
END:VEVENT
BEGIN:VEVENT
DTSTART;VALUE=DATE:20250726
DTEND;VALUE=DATE:20250727
DTSTAMP:20260422T205509
CREATED:20230114T011837Z
LAST-MODIFIED:20251109T193814Z
UID:10015294-1753488000-1753574399@jp.kahalaresort.com
SUMMARY:Seafood Buffet
DESCRIPTION:
URL:https://jp.kahalaresort.com/event/seafood-buffet/2025-07-26/
LOCATION:at PLUMERIA BEACH HOUSE
CATEGORIES:ALL EVENTS,DINING
ATTACH;FMTTYPE=image/jpeg:https://jp.kahalaresort.com/wp-content/uploads/1619204503-Seafood-Buffet_480x480_desktop.jpg
END:VEVENT
END:VCALENDAR