BEGIN:VCALENDAR
VERSION:2.0
PRODID:-//The Kahala Luxury Hotel &amp; Resort - ECPv6.14.2//NONSGML v1.0//EN
CALSCALE:GREGORIAN
METHOD:PUBLISH
X-ORIGINAL-URL:https://jp.kahalaresort.com
X-WR-CALDESC:Events for The Kahala Luxury Hotel &amp; Resort
REFRESH-INTERVAL;VALUE=DURATION:PT1H
X-Robots-Tag:noindex
X-PUBLISHED-TTL:PT1H
BEGIN:VTIMEZONE
TZID:Pacific/Honolulu
BEGIN:STANDARD
TZOFFSETFROM:-1000
TZOFFSETTO:-1000
TZNAME:HST
DTSTART:20260101T000000
END:STANDARD
END:VTIMEZONE
BEGIN:VEVENT
DTSTART;VALUE=DATE:20260905
DTEND;VALUE=DATE:20260906
DTSTAMP:20260424T052437
CREATED:20260303T185525Z
LAST-MODIFIED:20260303T185549Z
UID:10025436-1788566400-1788652799@jp.kahalaresort.com
SUMMARY:Classic Afternoon Tea
DESCRIPTION:
URL:https://jp.kahalaresort.com/event/classic-afternoon-tea-3-2/2026-09-05/
LOCATION:at THE VERANDA
CATEGORIES:ALL EVENTS,DINING,SPECIAL EVENTS
ATTACH;FMTTYPE=image/jpeg:https://jp.kahalaresort.com/wp-content/uploads/1651073317-insta_86_thumbnail.jpg
END:VEVENT
BEGIN:VEVENT
DTSTART;VALUE=DATE:20260905
DTEND;VALUE=DATE:20260906
DTSTAMP:20260424T052437
CREATED:20260303T191529Z
LAST-MODIFIED:20260303T191931Z
UID:10025788-1788566400-1788652799@jp.kahalaresort.com
SUMMARY:CHI Fitness Class: Yoga
DESCRIPTION:
URL:https://jp.kahalaresort.com/event/chi-fitness-class-yoga-2-2-2-2/2026-09-05/
LOCATION:at CHI Fitness
CATEGORIES:ALL EVENTS,HEALTH & WELLBEING
ATTACH;FMTTYPE=image/jpeg:https://jp.kahalaresort.com/wp-content/uploads/Yoga-3-revised.jpg
END:VEVENT
BEGIN:VEVENT
DTSTART;VALUE=DATE:20260906
DTEND;VALUE=DATE:20260907
DTSTAMP:20260424T052437
CREATED:20251021T181503Z
LAST-MODIFIED:20260306T230925Z
UID:10022306-1788652800-1788739199@jp.kahalaresort.com
SUMMARY:Pāʻina: A Hawaiian inspired buffet
DESCRIPTION:
URL:https://jp.kahalaresort.com/event/pa%ca%bbina-a-hawaiian-inspired-buffet-3/2026-09-06/
LOCATION:at PLUMERIA BEACH HOUSE
CATEGORIES:ALL EVENTS,DINING,SPECIAL EVENTS
ATTACH;FMTTYPE=image/jpeg:https://jp.kahalaresort.com/wp-content/uploads/Paina-1.jpg
END:VEVENT
BEGIN:VEVENT
DTSTART;VALUE=DATE:20260906
DTEND;VALUE=DATE:20260907
DTSTAMP:20260424T052437
CREATED:20260303T191529Z
LAST-MODIFIED:20260303T191931Z
UID:10025789-1788652800-1788739199@jp.kahalaresort.com
SUMMARY:CHI Fitness Class: Yoga
DESCRIPTION:
URL:https://jp.kahalaresort.com/event/chi-fitness-class-yoga-2-2-2-2/2026-09-06/
LOCATION:at CHI Fitness
CATEGORIES:ALL EVENTS,HEALTH & WELLBEING
ATTACH;FMTTYPE=image/jpeg:https://jp.kahalaresort.com/wp-content/uploads/Yoga-3-revised.jpg
END:VEVENT
BEGIN:VEVENT
DTSTART;VALUE=DATE:20260907
DTEND;VALUE=DATE:20260908
DTSTAMP:20260424T052437
CREATED:20260303T191529Z
LAST-MODIFIED:20260303T191931Z
UID:10025790-1788739200-1788825599@jp.kahalaresort.com
SUMMARY:CHI Fitness Class: Yoga
DESCRIPTION:
URL:https://jp.kahalaresort.com/event/chi-fitness-class-yoga-2-2-2-2/2026-09-07/
LOCATION:at CHI Fitness
CATEGORIES:ALL EVENTS,HEALTH & WELLBEING
ATTACH;FMTTYPE=image/jpeg:https://jp.kahalaresort.com/wp-content/uploads/Yoga-3-revised.jpg
END:VEVENT
BEGIN:VEVENT
DTSTART;VALUE=DATE:20260908
DTEND;VALUE=DATE:20260909
DTSTAMP:20260424T052437
CREATED:20260303T191529Z
LAST-MODIFIED:20260303T191931Z
UID:10025791-1788825600-1788911999@jp.kahalaresort.com
SUMMARY:CHI Fitness Class: Yoga
DESCRIPTION:
URL:https://jp.kahalaresort.com/event/chi-fitness-class-yoga-2-2-2-2/2026-09-08/
LOCATION:at CHI Fitness
CATEGORIES:ALL EVENTS,HEALTH & WELLBEING
ATTACH;FMTTYPE=image/jpeg:https://jp.kahalaresort.com/wp-content/uploads/Yoga-3-revised.jpg
END:VEVENT
BEGIN:VEVENT
DTSTART;VALUE=DATE:20260909
DTEND;VALUE=DATE:20260910
DTSTAMP:20260424T052437
CREATED:20260303T191326Z
LAST-MODIFIED:20260303T191705Z
UID:10025565-1788912000-1788998399@jp.kahalaresort.com
SUMMARY:Keiki Art
DESCRIPTION:
URL:https://jp.kahalaresort.com/event/keiki-art-2/2026-09-09/
CATEGORIES:ALL EVENTS,HEALTH & WELLBEING,KISCA,SPECIAL EVENTS
ATTACH;FMTTYPE=image/jpeg:https://jp.kahalaresort.com/wp-content/uploads/1632757965-shutterstock_574858306_desktop.jpg
END:VEVENT
BEGIN:VEVENT
DTSTART;VALUE=DATE:20260909
DTEND;VALUE=DATE:20260910
DTSTAMP:20260424T052437
CREATED:20260303T191529Z
LAST-MODIFIED:20260303T191931Z
UID:10025792-1788912000-1788998399@jp.kahalaresort.com
SUMMARY:CHI Fitness Class: Yoga
DESCRIPTION:
URL:https://jp.kahalaresort.com/event/chi-fitness-class-yoga-2-2-2-2/2026-09-09/
LOCATION:at CHI Fitness
CATEGORIES:ALL EVENTS,HEALTH & WELLBEING
ATTACH;FMTTYPE=image/jpeg:https://jp.kahalaresort.com/wp-content/uploads/Yoga-3-revised.jpg
END:VEVENT
BEGIN:VEVENT
DTSTART;VALUE=DATE:20260910
DTEND;VALUE=DATE:20260911
DTSTAMP:20260424T052437
CREATED:20260303T185714Z
LAST-MODIFIED:20260315T142935Z
UID:10025501-1788998400-1789084799@jp.kahalaresort.com
SUMMARY:Haku Kupe’e Bracelet Making
DESCRIPTION:
URL:https://jp.kahalaresort.com/event/haku-kupee-bracelet-making-2/2026-09-10/
LOCATION:at THE VERANDA
CATEGORIES:ALL EVENTS,HEALTH & WELLBEING,KISCA,SPECIAL EVENTS
ATTACH;FMTTYPE=image/jpeg:https://jp.kahalaresort.com/wp-content/uploads/1657547631-Haku-Kupe-480x480_desktop-1.jpg
END:VEVENT
BEGIN:VEVENT
DTSTART;VALUE=DATE:20260910
DTEND;VALUE=DATE:20260911
DTSTAMP:20260424T052437
CREATED:20260303T191529Z
LAST-MODIFIED:20260303T191931Z
UID:10025793-1788998400-1789084799@jp.kahalaresort.com
SUMMARY:CHI Fitness Class: Yoga
DESCRIPTION:
URL:https://jp.kahalaresort.com/event/chi-fitness-class-yoga-2-2-2-2/2026-09-10/
LOCATION:at CHI Fitness
CATEGORIES:ALL EVENTS,HEALTH & WELLBEING
ATTACH;FMTTYPE=image/jpeg:https://jp.kahalaresort.com/wp-content/uploads/Yoga-3-revised.jpg
END:VEVENT
BEGIN:VEVENT
DTSTART;VALUE=DATE:20260911
DTEND;VALUE=DATE:20260912
DTSTAMP:20260424T052437
CREATED:20260303T191529Z
LAST-MODIFIED:20260303T191931Z
UID:10025794-1789084800-1789171199@jp.kahalaresort.com
SUMMARY:CHI Fitness Class: Yoga
DESCRIPTION:
URL:https://jp.kahalaresort.com/event/chi-fitness-class-yoga-2-2-2-2/2026-09-11/
LOCATION:at CHI Fitness
CATEGORIES:ALL EVENTS,HEALTH & WELLBEING
ATTACH;FMTTYPE=image/jpeg:https://jp.kahalaresort.com/wp-content/uploads/Yoga-3-revised.jpg
END:VEVENT
BEGIN:VEVENT
DTSTART;VALUE=DATE:20260912
DTEND;VALUE=DATE:20260913
DTSTAMP:20260424T052437
CREATED:20260303T185525Z
LAST-MODIFIED:20260303T185549Z
UID:10025437-1789171200-1789257599@jp.kahalaresort.com
SUMMARY:Classic Afternoon Tea
DESCRIPTION:
URL:https://jp.kahalaresort.com/event/classic-afternoon-tea-3-2/2026-09-12/
LOCATION:at THE VERANDA
CATEGORIES:ALL EVENTS,DINING,SPECIAL EVENTS
ATTACH;FMTTYPE=image/jpeg:https://jp.kahalaresort.com/wp-content/uploads/1651073317-insta_86_thumbnail.jpg
END:VEVENT
BEGIN:VEVENT
DTSTART;VALUE=DATE:20260912
DTEND;VALUE=DATE:20260913
DTSTAMP:20260424T052437
CREATED:20260303T191529Z
LAST-MODIFIED:20260303T191931Z
UID:10025795-1789171200-1789257599@jp.kahalaresort.com
SUMMARY:CHI Fitness Class: Yoga
DESCRIPTION:
URL:https://jp.kahalaresort.com/event/chi-fitness-class-yoga-2-2-2-2/2026-09-12/
LOCATION:at CHI Fitness
CATEGORIES:ALL EVENTS,HEALTH & WELLBEING
ATTACH;FMTTYPE=image/jpeg:https://jp.kahalaresort.com/wp-content/uploads/Yoga-3-revised.jpg
END:VEVENT
BEGIN:VEVENT
DTSTART;VALUE=DATE:20260913
DTEND;VALUE=DATE:20260914
DTSTAMP:20260424T052437
CREATED:20251021T181503Z
LAST-MODIFIED:20260306T230925Z
UID:10022307-1789257600-1789343999@jp.kahalaresort.com
SUMMARY:Pāʻina: A Hawaiian inspired buffet
DESCRIPTION:
URL:https://jp.kahalaresort.com/event/pa%ca%bbina-a-hawaiian-inspired-buffet-3/2026-09-13/
LOCATION:at PLUMERIA BEACH HOUSE
CATEGORIES:ALL EVENTS,DINING,SPECIAL EVENTS
ATTACH;FMTTYPE=image/jpeg:https://jp.kahalaresort.com/wp-content/uploads/Paina-1.jpg
END:VEVENT
BEGIN:VEVENT
DTSTART;VALUE=DATE:20260913
DTEND;VALUE=DATE:20260914
DTSTAMP:20260424T052437
CREATED:20260303T191529Z
LAST-MODIFIED:20260303T191931Z
UID:10025796-1789257600-1789343999@jp.kahalaresort.com
SUMMARY:CHI Fitness Class: Yoga
DESCRIPTION:
URL:https://jp.kahalaresort.com/event/chi-fitness-class-yoga-2-2-2-2/2026-09-13/
LOCATION:at CHI Fitness
CATEGORIES:ALL EVENTS,HEALTH & WELLBEING
ATTACH;FMTTYPE=image/jpeg:https://jp.kahalaresort.com/wp-content/uploads/Yoga-3-revised.jpg
END:VEVENT
BEGIN:VEVENT
DTSTART;VALUE=DATE:20260914
DTEND;VALUE=DATE:20260915
DTSTAMP:20260424T052437
CREATED:20260303T191529Z
LAST-MODIFIED:20260303T191931Z
UID:10025797-1789344000-1789430399@jp.kahalaresort.com
SUMMARY:CHI Fitness Class: Yoga
DESCRIPTION:
URL:https://jp.kahalaresort.com/event/chi-fitness-class-yoga-2-2-2-2/2026-09-14/
LOCATION:at CHI Fitness
CATEGORIES:ALL EVENTS,HEALTH & WELLBEING
ATTACH;FMTTYPE=image/jpeg:https://jp.kahalaresort.com/wp-content/uploads/Yoga-3-revised.jpg
END:VEVENT
BEGIN:VEVENT
DTSTART;VALUE=DATE:20260915
DTEND;VALUE=DATE:20260916
DTSTAMP:20260424T052437
CREATED:20260303T191529Z
LAST-MODIFIED:20260303T191931Z
UID:10025798-1789430400-1789516799@jp.kahalaresort.com
SUMMARY:CHI Fitness Class: Yoga
DESCRIPTION:
URL:https://jp.kahalaresort.com/event/chi-fitness-class-yoga-2-2-2-2/2026-09-15/
LOCATION:at CHI Fitness
CATEGORIES:ALL EVENTS,HEALTH & WELLBEING
ATTACH;FMTTYPE=image/jpeg:https://jp.kahalaresort.com/wp-content/uploads/Yoga-3-revised.jpg
END:VEVENT
BEGIN:VEVENT
DTSTART;VALUE=DATE:20260916
DTEND;VALUE=DATE:20260917
DTSTAMP:20260424T052437
CREATED:20260303T191326Z
LAST-MODIFIED:20260303T191705Z
UID:10025566-1789516800-1789603199@jp.kahalaresort.com
SUMMARY:Keiki Art
DESCRIPTION:
URL:https://jp.kahalaresort.com/event/keiki-art-2/2026-09-16/
CATEGORIES:ALL EVENTS,HEALTH & WELLBEING,KISCA,SPECIAL EVENTS
ATTACH;FMTTYPE=image/jpeg:https://jp.kahalaresort.com/wp-content/uploads/1632757965-shutterstock_574858306_desktop.jpg
END:VEVENT
BEGIN:VEVENT
DTSTART;VALUE=DATE:20260916
DTEND;VALUE=DATE:20260917
DTSTAMP:20260424T052437
CREATED:20260303T191529Z
LAST-MODIFIED:20260303T191931Z
UID:10025799-1789516800-1789603199@jp.kahalaresort.com
SUMMARY:CHI Fitness Class: Yoga
DESCRIPTION:
URL:https://jp.kahalaresort.com/event/chi-fitness-class-yoga-2-2-2-2/2026-09-16/
LOCATION:at CHI Fitness
CATEGORIES:ALL EVENTS,HEALTH & WELLBEING
ATTACH;FMTTYPE=image/jpeg:https://jp.kahalaresort.com/wp-content/uploads/Yoga-3-revised.jpg
END:VEVENT
BEGIN:VEVENT
DTSTART;VALUE=DATE:20260917
DTEND;VALUE=DATE:20260918
DTSTAMP:20260424T052437
CREATED:20260303T185714Z
LAST-MODIFIED:20260315T142935Z
UID:10025502-1789603200-1789689599@jp.kahalaresort.com
SUMMARY:Haku Kupe’e Bracelet Making
DESCRIPTION:
URL:https://jp.kahalaresort.com/event/haku-kupee-bracelet-making-2/2026-09-17/
LOCATION:at THE VERANDA
CATEGORIES:ALL EVENTS,HEALTH & WELLBEING,KISCA,SPECIAL EVENTS
ATTACH;FMTTYPE=image/jpeg:https://jp.kahalaresort.com/wp-content/uploads/1657547631-Haku-Kupe-480x480_desktop-1.jpg
END:VEVENT
BEGIN:VEVENT
DTSTART;VALUE=DATE:20260917
DTEND;VALUE=DATE:20260918
DTSTAMP:20260424T052437
CREATED:20260303T191529Z
LAST-MODIFIED:20260303T191931Z
UID:10025800-1789603200-1789689599@jp.kahalaresort.com
SUMMARY:CHI Fitness Class: Yoga
DESCRIPTION:
URL:https://jp.kahalaresort.com/event/chi-fitness-class-yoga-2-2-2-2/2026-09-17/
LOCATION:at CHI Fitness
CATEGORIES:ALL EVENTS,HEALTH & WELLBEING
ATTACH;FMTTYPE=image/jpeg:https://jp.kahalaresort.com/wp-content/uploads/Yoga-3-revised.jpg
END:VEVENT
BEGIN:VEVENT
DTSTART;VALUE=DATE:20260918
DTEND;VALUE=DATE:20260919
DTSTAMP:20260424T052437
CREATED:20260303T191529Z
LAST-MODIFIED:20260303T191931Z
UID:10025801-1789689600-1789775999@jp.kahalaresort.com
SUMMARY:CHI Fitness Class: Yoga
DESCRIPTION:
URL:https://jp.kahalaresort.com/event/chi-fitness-class-yoga-2-2-2-2/2026-09-18/
LOCATION:at CHI Fitness
CATEGORIES:ALL EVENTS,HEALTH & WELLBEING
ATTACH;FMTTYPE=image/jpeg:https://jp.kahalaresort.com/wp-content/uploads/Yoga-3-revised.jpg
END:VEVENT
BEGIN:VEVENT
DTSTART;VALUE=DATE:20260919
DTEND;VALUE=DATE:20260920
DTSTAMP:20260424T052437
CREATED:20260303T185525Z
LAST-MODIFIED:20260303T185549Z
UID:10025438-1789776000-1789862399@jp.kahalaresort.com
SUMMARY:Classic Afternoon Tea
DESCRIPTION:
URL:https://jp.kahalaresort.com/event/classic-afternoon-tea-3-2/2026-09-19/
LOCATION:at THE VERANDA
CATEGORIES:ALL EVENTS,DINING,SPECIAL EVENTS
ATTACH;FMTTYPE=image/jpeg:https://jp.kahalaresort.com/wp-content/uploads/1651073317-insta_86_thumbnail.jpg
END:VEVENT
BEGIN:VEVENT
DTSTART;VALUE=DATE:20260919
DTEND;VALUE=DATE:20260920
DTSTAMP:20260424T052437
CREATED:20260303T191529Z
LAST-MODIFIED:20260303T191931Z
UID:10025802-1789776000-1789862399@jp.kahalaresort.com
SUMMARY:CHI Fitness Class: Yoga
DESCRIPTION:
URL:https://jp.kahalaresort.com/event/chi-fitness-class-yoga-2-2-2-2/2026-09-19/
LOCATION:at CHI Fitness
CATEGORIES:ALL EVENTS,HEALTH & WELLBEING
ATTACH;FMTTYPE=image/jpeg:https://jp.kahalaresort.com/wp-content/uploads/Yoga-3-revised.jpg
END:VEVENT
BEGIN:VEVENT
DTSTART;VALUE=DATE:20260920
DTEND;VALUE=DATE:20260921
DTSTAMP:20260424T052437
CREATED:20251021T181503Z
LAST-MODIFIED:20260306T230925Z
UID:10022308-1789862400-1789948799@jp.kahalaresort.com
SUMMARY:Pāʻina: A Hawaiian inspired buffet
DESCRIPTION:
URL:https://jp.kahalaresort.com/event/pa%ca%bbina-a-hawaiian-inspired-buffet-3/2026-09-20/
LOCATION:at PLUMERIA BEACH HOUSE
CATEGORIES:ALL EVENTS,DINING,SPECIAL EVENTS
ATTACH;FMTTYPE=image/jpeg:https://jp.kahalaresort.com/wp-content/uploads/Paina-1.jpg
END:VEVENT
BEGIN:VEVENT
DTSTART;VALUE=DATE:20260920
DTEND;VALUE=DATE:20260921
DTSTAMP:20260424T052437
CREATED:20260303T191529Z
LAST-MODIFIED:20260303T191931Z
UID:10025803-1789862400-1789948799@jp.kahalaresort.com
SUMMARY:CHI Fitness Class: Yoga
DESCRIPTION:
URL:https://jp.kahalaresort.com/event/chi-fitness-class-yoga-2-2-2-2/2026-09-20/
LOCATION:at CHI Fitness
CATEGORIES:ALL EVENTS,HEALTH & WELLBEING
ATTACH;FMTTYPE=image/jpeg:https://jp.kahalaresort.com/wp-content/uploads/Yoga-3-revised.jpg
END:VEVENT
BEGIN:VEVENT
DTSTART;VALUE=DATE:20260921
DTEND;VALUE=DATE:20260922
DTSTAMP:20260424T052437
CREATED:20260303T191529Z
LAST-MODIFIED:20260303T191931Z
UID:10025804-1789948800-1790035199@jp.kahalaresort.com
SUMMARY:CHI Fitness Class: Yoga
DESCRIPTION:
URL:https://jp.kahalaresort.com/event/chi-fitness-class-yoga-2-2-2-2/2026-09-21/
LOCATION:at CHI Fitness
CATEGORIES:ALL EVENTS,HEALTH & WELLBEING
ATTACH;FMTTYPE=image/jpeg:https://jp.kahalaresort.com/wp-content/uploads/Yoga-3-revised.jpg
END:VEVENT
BEGIN:VEVENT
DTSTART;VALUE=DATE:20260922
DTEND;VALUE=DATE:20260923
DTSTAMP:20260424T052437
CREATED:20260303T191529Z
LAST-MODIFIED:20260303T191931Z
UID:10025805-1790035200-1790121599@jp.kahalaresort.com
SUMMARY:CHI Fitness Class: Yoga
DESCRIPTION:
URL:https://jp.kahalaresort.com/event/chi-fitness-class-yoga-2-2-2-2/2026-09-22/
LOCATION:at CHI Fitness
CATEGORIES:ALL EVENTS,HEALTH & WELLBEING
ATTACH;FMTTYPE=image/jpeg:https://jp.kahalaresort.com/wp-content/uploads/Yoga-3-revised.jpg
END:VEVENT
BEGIN:VEVENT
DTSTART;VALUE=DATE:20260923
DTEND;VALUE=DATE:20260924
DTSTAMP:20260424T052437
CREATED:20260303T191326Z
LAST-MODIFIED:20260303T191705Z
UID:10025567-1790121600-1790207999@jp.kahalaresort.com
SUMMARY:Keiki Art
DESCRIPTION:
URL:https://jp.kahalaresort.com/event/keiki-art-2/2026-09-23/
CATEGORIES:ALL EVENTS,HEALTH & WELLBEING,KISCA,SPECIAL EVENTS
ATTACH;FMTTYPE=image/jpeg:https://jp.kahalaresort.com/wp-content/uploads/1632757965-shutterstock_574858306_desktop.jpg
END:VEVENT
BEGIN:VEVENT
DTSTART;VALUE=DATE:20260923
DTEND;VALUE=DATE:20260924
DTSTAMP:20260424T052437
CREATED:20260303T191529Z
LAST-MODIFIED:20260303T191931Z
UID:10025806-1790121600-1790207999@jp.kahalaresort.com
SUMMARY:CHI Fitness Class: Yoga
DESCRIPTION:
URL:https://jp.kahalaresort.com/event/chi-fitness-class-yoga-2-2-2-2/2026-09-23/
LOCATION:at CHI Fitness
CATEGORIES:ALL EVENTS,HEALTH & WELLBEING
ATTACH;FMTTYPE=image/jpeg:https://jp.kahalaresort.com/wp-content/uploads/Yoga-3-revised.jpg
END:VEVENT
END:VCALENDAR