BEGIN:VCALENDAR
VERSION:2.0
PRODID:-//The Kahala Luxury Hotel &amp; Resort - ECPv6.14.2//NONSGML v1.0//EN
CALSCALE:GREGORIAN
METHOD:PUBLISH
X-WR-CALNAME:The Kahala Luxury Hotel &amp; Resort
X-ORIGINAL-URL:https://jp.kahalaresort.com
X-WR-CALDESC:Events for The Kahala Luxury Hotel &amp; Resort
REFRESH-INTERVAL;VALUE=DURATION:PT1H
X-Robots-Tag:noindex
X-PUBLISHED-TTL:PT1H
BEGIN:VTIMEZONE
TZID:Pacific/Honolulu
BEGIN:STANDARD
TZOFFSETFROM:-1000
TZOFFSETTO:-1000
TZNAME:HST
DTSTART:20250101T000000
END:STANDARD
END:VTIMEZONE
BEGIN:VEVENT
DTSTART;VALUE=DATE:20250123
DTEND;VALUE=DATE:20250124
DTSTAMP:20260419T175439
CREATED:20230113T013846Z
LAST-MODIFIED:20250811T222930Z
UID:10011711-1737590400-1737676799@jp.kahalaresort.com
SUMMARY:CHI Fitness Class: Yoga
DESCRIPTION:
URL:https://jp.kahalaresort.com/event/chi-fitness-class-yoga-2-2-2/2025-01-23/
LOCATION:at CHI Fitness
CATEGORIES:ALL EVENTS,HEALTH & WELLBEING
ATTACH;FMTTYPE=image/jpeg:https://jp.kahalaresort.com/wp-content/uploads/Yoga-3-revised.jpg
END:VEVENT
BEGIN:VEVENT
DTSTART;VALUE=DATE:20250124
DTEND;VALUE=DATE:20250125
DTSTAMP:20260419T175439
CREATED:20230110T001207Z
LAST-MODIFIED:20251109T173825Z
UID:10003249-1737676800-1737763199@jp.kahalaresort.com
SUMMARY:Storytelling by our Tutu
DESCRIPTION:
URL:https://jp.kahalaresort.com/event/storytelling-by-our-tutu/2025-01-24/
LOCATION:at THE VERANDA
CATEGORIES:ALL EVENTS,KISCA,SPECIAL EVENTS
ATTACH;FMTTYPE=image/jpeg:https://jp.kahalaresort.com/wp-content/uploads/1658181596-tutu_desktop-1.jpg
END:VEVENT
BEGIN:VEVENT
DTSTART;VALUE=DATE:20250124
DTEND;VALUE=DATE:20250125
DTSTAMP:20260419T175439
CREATED:20230113T013846Z
LAST-MODIFIED:20250811T222930Z
UID:10011712-1737676800-1737763199@jp.kahalaresort.com
SUMMARY:CHI Fitness Class: Yoga
DESCRIPTION:
URL:https://jp.kahalaresort.com/event/chi-fitness-class-yoga-2-2-2/2025-01-24/
LOCATION:at CHI Fitness
CATEGORIES:ALL EVENTS,HEALTH & WELLBEING
ATTACH;FMTTYPE=image/jpeg:https://jp.kahalaresort.com/wp-content/uploads/Yoga-3-revised.jpg
END:VEVENT
BEGIN:VEVENT
DTSTART;VALUE=DATE:20250124
DTEND;VALUE=DATE:20250125
DTSTAMP:20260419T175439
CREATED:20230114T011837Z
LAST-MODIFIED:20251109T193814Z
UID:10015267-1737676800-1737763199@jp.kahalaresort.com
SUMMARY:Seafood Buffet
DESCRIPTION:
URL:https://jp.kahalaresort.com/event/seafood-buffet/2025-01-24/
LOCATION:at PLUMERIA BEACH HOUSE
CATEGORIES:ALL EVENTS,DINING
ATTACH;FMTTYPE=image/jpeg:https://jp.kahalaresort.com/wp-content/uploads/1619204503-Seafood-Buffet_480x480_desktop.jpg
END:VEVENT
BEGIN:VEVENT
DTSTART;VALUE=DATE:20250124
DTEND;VALUE=DATE:20250125
DTSTAMP:20260419T175439
CREATED:20230115T220000Z
LAST-MODIFIED:20250811T223158Z
UID:10022043-1737676800-1737763199@jp.kahalaresort.com
SUMMARY:Lei Making
DESCRIPTION:
URL:https://jp.kahalaresort.com/event/lei-making-2/2025-01-24/
LOCATION:at THE VERANDA
CATEGORIES:ALL EVENTS,HEALTH & WELLBEING,KISCA,SPECIAL EVENTS
ATTACH;FMTTYPE=image/jpeg:https://jp.kahalaresort.com/wp-content/uploads/1639069510-Lei_Making_desktop-1.jpeg
END:VEVENT
BEGIN:VEVENT
DTSTART;VALUE=DATE:20250124
DTEND;VALUE=DATE:20250125
DTSTAMP:20260419T175439
CREATED:20230116T055908Z
LAST-MODIFIED:20260303T192217Z
UID:10018878-1737676800-1737763199@jp.kahalaresort.com
SUMMARY:Ocean Education Activity
DESCRIPTION:
URL:https://jp.kahalaresort.com/event/live-touch-tank-coral-activity/2025-01-24/
LOCATION:at POOLSIDE HALE
CATEGORIES:ALL EVENTS,HEALTH & WELLBEING,KISCA,SPECIAL EVENTS
ATTACH;FMTTYPE=image/jpeg:https://jp.kahalaresort.com/wp-content/uploads/1632756412-shutterstock_410084188_thumbnail.jpg
END:VEVENT
BEGIN:VEVENT
DTSTART;VALUE=DATE:20250125
DTEND;VALUE=DATE:20250126
DTSTAMP:20260419T175439
CREATED:20230113T013846Z
LAST-MODIFIED:20250811T222930Z
UID:10011713-1737763200-1737849599@jp.kahalaresort.com
SUMMARY:CHI Fitness Class: Yoga
DESCRIPTION:
URL:https://jp.kahalaresort.com/event/chi-fitness-class-yoga-2-2-2/2025-01-25/
LOCATION:at CHI Fitness
CATEGORIES:ALL EVENTS,HEALTH & WELLBEING
ATTACH;FMTTYPE=image/jpeg:https://jp.kahalaresort.com/wp-content/uploads/Yoga-3-revised.jpg
END:VEVENT
BEGIN:VEVENT
DTSTART;VALUE=DATE:20250125
DTEND;VALUE=DATE:20250126
DTSTAMP:20260419T175439
CREATED:20230114T011837Z
LAST-MODIFIED:20251109T193814Z
UID:10015268-1737763200-1737849599@jp.kahalaresort.com
SUMMARY:Seafood Buffet
DESCRIPTION:
URL:https://jp.kahalaresort.com/event/seafood-buffet/2025-01-25/
LOCATION:at PLUMERIA BEACH HOUSE
CATEGORIES:ALL EVENTS,DINING
ATTACH;FMTTYPE=image/jpeg:https://jp.kahalaresort.com/wp-content/uploads/1619204503-Seafood-Buffet_480x480_desktop.jpg
END:VEVENT
BEGIN:VEVENT
DTSTART;VALUE=DATE:20250126
DTEND;VALUE=DATE:20250127
DTSTAMP:20260419T175439
CREATED:20230113T013846Z
LAST-MODIFIED:20250811T222930Z
UID:10011714-1737849600-1737935999@jp.kahalaresort.com
SUMMARY:CHI Fitness Class: Yoga
DESCRIPTION:
URL:https://jp.kahalaresort.com/event/chi-fitness-class-yoga-2-2-2/2025-01-26/
LOCATION:at CHI Fitness
CATEGORIES:ALL EVENTS,HEALTH & WELLBEING
ATTACH;FMTTYPE=image/jpeg:https://jp.kahalaresort.com/wp-content/uploads/Yoga-3-revised.jpg
END:VEVENT
BEGIN:VEVENT
DTSTART;VALUE=DATE:20250126
DTEND;VALUE=DATE:20250127
DTSTAMP:20260419T175439
CREATED:20230115T220000Z
LAST-MODIFIED:20250811T223158Z
UID:10022044-1737849600-1737935999@jp.kahalaresort.com
SUMMARY:Lei Making
DESCRIPTION:
URL:https://jp.kahalaresort.com/event/lei-making-2/2025-01-26/
LOCATION:at THE VERANDA
CATEGORIES:ALL EVENTS,HEALTH & WELLBEING,KISCA,SPECIAL EVENTS
ATTACH;FMTTYPE=image/jpeg:https://jp.kahalaresort.com/wp-content/uploads/1639069510-Lei_Making_desktop-1.jpeg
END:VEVENT
BEGIN:VEVENT
DTSTART;VALUE=DATE:20250127
DTEND;VALUE=DATE:20250128
DTSTAMP:20260419T175439
CREATED:20230111T173130Z
LAST-MODIFIED:20250811T222836Z
UID:10013163-1737936000-1738022399@jp.kahalaresort.com
SUMMARY:Ohe Kapala Stamping by Na Mala Kahiko
DESCRIPTION:
URL:https://jp.kahalaresort.com/event/ohe-kapala-stamping-by-na-mala-kahiko/2025-01-27/
LOCATION:at THE VERANDA
CATEGORIES:ALL EVENTS,HEALTH & WELLBEING,KISCA,SPECIAL EVENTS
ATTACH;FMTTYPE=image/png:https://jp.kahalaresort.com/wp-content/uploads/1639080397-image014_desktop-2.png
END:VEVENT
BEGIN:VEVENT
DTSTART;VALUE=DATE:20250127
DTEND;VALUE=DATE:20250128
DTSTAMP:20260419T175439
CREATED:20230113T013846Z
LAST-MODIFIED:20250811T222930Z
UID:10011715-1737936000-1738022399@jp.kahalaresort.com
SUMMARY:CHI Fitness Class: Yoga
DESCRIPTION:
URL:https://jp.kahalaresort.com/event/chi-fitness-class-yoga-2-2-2/2025-01-27/
LOCATION:at CHI Fitness
CATEGORIES:ALL EVENTS,HEALTH & WELLBEING
ATTACH;FMTTYPE=image/jpeg:https://jp.kahalaresort.com/wp-content/uploads/Yoga-3-revised.jpg
END:VEVENT
BEGIN:VEVENT
DTSTART;VALUE=DATE:20250128
DTEND;VALUE=DATE:20250129
DTSTAMP:20260419T175439
CREATED:20230113T013846Z
LAST-MODIFIED:20250811T222930Z
UID:10011716-1738022400-1738108799@jp.kahalaresort.com
SUMMARY:CHI Fitness Class: Yoga
DESCRIPTION:
URL:https://jp.kahalaresort.com/event/chi-fitness-class-yoga-2-2-2/2025-01-28/
LOCATION:at CHI Fitness
CATEGORIES:ALL EVENTS,HEALTH & WELLBEING
ATTACH;FMTTYPE=image/jpeg:https://jp.kahalaresort.com/wp-content/uploads/Yoga-3-revised.jpg
END:VEVENT
BEGIN:VEVENT
DTSTART;VALUE=DATE:20250128
DTEND;VALUE=DATE:20250129
DTSTAMP:20260419T175439
CREATED:20230116T055908Z
LAST-MODIFIED:20260303T192217Z
UID:10026164-1738022400-1738108799@jp.kahalaresort.com
SUMMARY:Ocean Education Activity
DESCRIPTION:
URL:https://jp.kahalaresort.com/event/live-touch-tank-coral-activity/2025-01-28/
LOCATION:at POOLSIDE HALE
CATEGORIES:ALL EVENTS,HEALTH & WELLBEING,KISCA,SPECIAL EVENTS
ATTACH;FMTTYPE=image/jpeg:https://jp.kahalaresort.com/wp-content/uploads/1632756412-shutterstock_410084188_thumbnail.jpg
END:VEVENT
BEGIN:VEVENT
DTSTART;VALUE=DATE:20250128
DTEND;VALUE=DATE:20250129
DTSTAMP:20260419T175439
CREATED:20230525T201516Z
LAST-MODIFIED:20250811T222603Z
UID:10013424-1738022400-1738108799@jp.kahalaresort.com
SUMMARY:Lauhala Weaving
DESCRIPTION:
URL:https://jp.kahalaresort.com/event/lauhala-weaving-2/2025-01-28/
LOCATION:at THE VERANDA
CATEGORIES:ALL EVENTS,HEALTH & WELLBEING,KISCA,SPECIAL EVENTS
ATTACH;FMTTYPE=image/jpeg:https://jp.kahalaresort.com/wp-content/uploads/1639071856-Weaving_desktop-1.jpg
END:VEVENT
BEGIN:VEVENT
DTSTART;VALUE=DATE:20250129
DTEND;VALUE=DATE:20250130
DTSTAMP:20260419T175439
CREATED:20230111T175739Z
LAST-MODIFIED:20251124T184302Z
UID:10014471-1738108800-1738195199@jp.kahalaresort.com
SUMMARY:Keiki Art
DESCRIPTION:
URL:https://jp.kahalaresort.com/event/keiki-art/2025-01-29/
CATEGORIES:ALL EVENTS,HEALTH & WELLBEING,KISCA,SPECIAL EVENTS
ATTACH;FMTTYPE=image/jpeg:https://jp.kahalaresort.com/wp-content/uploads/1632757965-shutterstock_574858306_desktop.jpg
END:VEVENT
BEGIN:VEVENT
DTSTART;VALUE=DATE:20250129
DTEND;VALUE=DATE:20250130
DTSTAMP:20260419T175439
CREATED:20230113T013846Z
LAST-MODIFIED:20250811T222930Z
UID:10011717-1738108800-1738195199@jp.kahalaresort.com
SUMMARY:CHI Fitness Class: Yoga
DESCRIPTION:
URL:https://jp.kahalaresort.com/event/chi-fitness-class-yoga-2-2-2/2025-01-29/
LOCATION:at CHI Fitness
CATEGORIES:ALL EVENTS,HEALTH & WELLBEING
ATTACH;FMTTYPE=image/jpeg:https://jp.kahalaresort.com/wp-content/uploads/Yoga-3-revised.jpg
END:VEVENT
BEGIN:VEVENT
DTSTART;VALUE=DATE:20250129
DTEND;VALUE=DATE:20250130
DTSTAMP:20260419T175439
CREATED:20230115T220000Z
LAST-MODIFIED:20250811T223158Z
UID:10022045-1738108800-1738195199@jp.kahalaresort.com
SUMMARY:Lei Making
DESCRIPTION:
URL:https://jp.kahalaresort.com/event/lei-making-2/2025-01-29/
LOCATION:at THE VERANDA
CATEGORIES:ALL EVENTS,HEALTH & WELLBEING,KISCA,SPECIAL EVENTS
ATTACH;FMTTYPE=image/jpeg:https://jp.kahalaresort.com/wp-content/uploads/1639069510-Lei_Making_desktop-1.jpeg
END:VEVENT
BEGIN:VEVENT
DTSTART;VALUE=DATE:20250129
DTEND;VALUE=DATE:20250130
DTSTAMP:20260419T175439
CREATED:20230116T055908Z
LAST-MODIFIED:20260303T192217Z
UID:10018879-1738108800-1738195199@jp.kahalaresort.com
SUMMARY:Ocean Education Activity
DESCRIPTION:
URL:https://jp.kahalaresort.com/event/live-touch-tank-coral-activity/2025-01-29/
LOCATION:at POOLSIDE HALE
CATEGORIES:ALL EVENTS,HEALTH & WELLBEING,KISCA,SPECIAL EVENTS
ATTACH;FMTTYPE=image/jpeg:https://jp.kahalaresort.com/wp-content/uploads/1632756412-shutterstock_410084188_thumbnail.jpg
END:VEVENT
BEGIN:VEVENT
DTSTART;VALUE=DATE:20250130
DTEND;VALUE=DATE:20250131
DTSTAMP:20260419T175439
CREATED:20230111T180331Z
LAST-MODIFIED:20250811T222945Z
UID:10014209-1738195200-1738281599@jp.kahalaresort.com
SUMMARY:Haku Kupe’e Bracelet Making
DESCRIPTION:
URL:https://jp.kahalaresort.com/event/haku-kupee-bracelet-making/2025-01-30/
LOCATION:at THE VERANDA
CATEGORIES:ALL EVENTS,HEALTH & WELLBEING,KISCA,SPECIAL EVENTS
ATTACH;FMTTYPE=image/jpeg:https://jp.kahalaresort.com/wp-content/uploads/1657547631-Haku-Kupe-480x480_desktop-1.jpg
END:VEVENT
BEGIN:VEVENT
DTSTART;VALUE=DATE:20250130
DTEND;VALUE=DATE:20250131
DTSTAMP:20260419T175439
CREATED:20230113T013846Z
LAST-MODIFIED:20250811T222930Z
UID:10011718-1738195200-1738281599@jp.kahalaresort.com
SUMMARY:CHI Fitness Class: Yoga
DESCRIPTION:
URL:https://jp.kahalaresort.com/event/chi-fitness-class-yoga-2-2-2/2025-01-30/
LOCATION:at CHI Fitness
CATEGORIES:ALL EVENTS,HEALTH & WELLBEING
ATTACH;FMTTYPE=image/jpeg:https://jp.kahalaresort.com/wp-content/uploads/Yoga-3-revised.jpg
END:VEVENT
BEGIN:VEVENT
DTSTART;VALUE=DATE:20250131
DTEND;VALUE=DATE:20250201
DTSTAMP:20260419T175439
CREATED:20230110T001207Z
LAST-MODIFIED:20251109T173825Z
UID:10003250-1738281600-1738367999@jp.kahalaresort.com
SUMMARY:Storytelling by our Tutu
DESCRIPTION:
URL:https://jp.kahalaresort.com/event/storytelling-by-our-tutu/2025-01-31/
LOCATION:at THE VERANDA
CATEGORIES:ALL EVENTS,KISCA,SPECIAL EVENTS
ATTACH;FMTTYPE=image/jpeg:https://jp.kahalaresort.com/wp-content/uploads/1658181596-tutu_desktop-1.jpg
END:VEVENT
BEGIN:VEVENT
DTSTART;VALUE=DATE:20250131
DTEND;VALUE=DATE:20250201
DTSTAMP:20260419T175439
CREATED:20230113T013846Z
LAST-MODIFIED:20250811T222930Z
UID:10011719-1738281600-1738367999@jp.kahalaresort.com
SUMMARY:CHI Fitness Class: Yoga
DESCRIPTION:
URL:https://jp.kahalaresort.com/event/chi-fitness-class-yoga-2-2-2/2025-01-31/
LOCATION:at CHI Fitness
CATEGORIES:ALL EVENTS,HEALTH & WELLBEING
ATTACH;FMTTYPE=image/jpeg:https://jp.kahalaresort.com/wp-content/uploads/Yoga-3-revised.jpg
END:VEVENT
BEGIN:VEVENT
DTSTART;VALUE=DATE:20250131
DTEND;VALUE=DATE:20250201
DTSTAMP:20260419T175439
CREATED:20230114T011837Z
LAST-MODIFIED:20251109T193814Z
UID:10015982-1738281600-1738367999@jp.kahalaresort.com
SUMMARY:Seafood Buffet
DESCRIPTION:
URL:https://jp.kahalaresort.com/event/seafood-buffet/2025-01-31/
LOCATION:at PLUMERIA BEACH HOUSE
CATEGORIES:ALL EVENTS,DINING
ATTACH;FMTTYPE=image/jpeg:https://jp.kahalaresort.com/wp-content/uploads/1619204503-Seafood-Buffet_480x480_desktop.jpg
END:VEVENT
BEGIN:VEVENT
DTSTART;VALUE=DATE:20250131
DTEND;VALUE=DATE:20250201
DTSTAMP:20260419T175439
CREATED:20230115T220000Z
LAST-MODIFIED:20250811T223158Z
UID:10022046-1738281600-1738367999@jp.kahalaresort.com
SUMMARY:Lei Making
DESCRIPTION:
URL:https://jp.kahalaresort.com/event/lei-making-2/2025-01-31/
LOCATION:at THE VERANDA
CATEGORIES:ALL EVENTS,HEALTH & WELLBEING,KISCA,SPECIAL EVENTS
ATTACH;FMTTYPE=image/jpeg:https://jp.kahalaresort.com/wp-content/uploads/1639069510-Lei_Making_desktop-1.jpeg
END:VEVENT
BEGIN:VEVENT
DTSTART;VALUE=DATE:20250131
DTEND;VALUE=DATE:20250201
DTSTAMP:20260419T175439
CREATED:20230116T055908Z
LAST-MODIFIED:20260303T192217Z
UID:10018880-1738281600-1738367999@jp.kahalaresort.com
SUMMARY:Ocean Education Activity
DESCRIPTION:
URL:https://jp.kahalaresort.com/event/live-touch-tank-coral-activity/2025-01-31/
LOCATION:at POOLSIDE HALE
CATEGORIES:ALL EVENTS,HEALTH & WELLBEING,KISCA,SPECIAL EVENTS
ATTACH;FMTTYPE=image/jpeg:https://jp.kahalaresort.com/wp-content/uploads/1632756412-shutterstock_410084188_thumbnail.jpg
END:VEVENT
BEGIN:VEVENT
DTSTART;VALUE=DATE:20250201
DTEND;VALUE=DATE:20250202
DTSTAMP:20260419T175439
CREATED:20230113T013846Z
LAST-MODIFIED:20250811T222930Z
UID:10011720-1738368000-1738454399@jp.kahalaresort.com
SUMMARY:CHI Fitness Class: Yoga
DESCRIPTION:
URL:https://jp.kahalaresort.com/event/chi-fitness-class-yoga-2-2-2/2025-02-01/
LOCATION:at CHI Fitness
CATEGORIES:ALL EVENTS,HEALTH & WELLBEING
ATTACH;FMTTYPE=image/jpeg:https://jp.kahalaresort.com/wp-content/uploads/Yoga-3-revised.jpg
END:VEVENT
BEGIN:VEVENT
DTSTART;VALUE=DATE:20250201
DTEND;VALUE=DATE:20250202
DTSTAMP:20260419T175439
CREATED:20230114T011837Z
LAST-MODIFIED:20251109T193814Z
UID:10015983-1738368000-1738454399@jp.kahalaresort.com
SUMMARY:Seafood Buffet
DESCRIPTION:
URL:https://jp.kahalaresort.com/event/seafood-buffet/2025-02-01/
LOCATION:at PLUMERIA BEACH HOUSE
CATEGORIES:ALL EVENTS,DINING
ATTACH;FMTTYPE=image/jpeg:https://jp.kahalaresort.com/wp-content/uploads/1619204503-Seafood-Buffet_480x480_desktop.jpg
END:VEVENT
BEGIN:VEVENT
DTSTART;VALUE=DATE:20250202
DTEND;VALUE=DATE:20250203
DTSTAMP:20260419T175439
CREATED:20230113T013846Z
LAST-MODIFIED:20250811T222930Z
UID:10011721-1738454400-1738540799@jp.kahalaresort.com
SUMMARY:CHI Fitness Class: Yoga
DESCRIPTION:
URL:https://jp.kahalaresort.com/event/chi-fitness-class-yoga-2-2-2/2025-02-02/
LOCATION:at CHI Fitness
CATEGORIES:ALL EVENTS,HEALTH & WELLBEING
ATTACH;FMTTYPE=image/jpeg:https://jp.kahalaresort.com/wp-content/uploads/Yoga-3-revised.jpg
END:VEVENT
BEGIN:VEVENT
DTSTART;VALUE=DATE:20250202
DTEND;VALUE=DATE:20250203
DTSTAMP:20260419T175439
CREATED:20230115T220000Z
LAST-MODIFIED:20250811T223158Z
UID:10022047-1738454400-1738540799@jp.kahalaresort.com
SUMMARY:Lei Making
DESCRIPTION:
URL:https://jp.kahalaresort.com/event/lei-making-2/2025-02-02/
LOCATION:at THE VERANDA
CATEGORIES:ALL EVENTS,HEALTH & WELLBEING,KISCA,SPECIAL EVENTS
ATTACH;FMTTYPE=image/jpeg:https://jp.kahalaresort.com/wp-content/uploads/1639069510-Lei_Making_desktop-1.jpeg
END:VEVENT
END:VCALENDAR